BEGIN:VCALENDAR
VERSION:2.0
PRODID:-//Ka&#039;Fête ô Mômes - ECPv5.9.0//NONSGML v1.0//EN
CALSCALE:GREGORIAN
METHOD:PUBLISH
X-WR-CALNAME:Ka&#039;Fête ô Mômes
X-ORIGINAL-URL:https://kafeteomomes.fr
X-WR-CALDESC:Évènements pour Ka&#039;Fête ô Mômes
BEGIN:VTIMEZONE
TZID:Europe/Paris
BEGIN:DAYLIGHT
TZOFFSETFROM:+0100
TZOFFSETTO:+0200
TZNAME:CEST
DTSTART:20240331T010000
END:DAYLIGHT
BEGIN:STANDARD
TZOFFSETFROM:+0200
TZOFFSETTO:+0100
TZNAME:CET
DTSTART:20241027T010000
END:STANDARD
END:VTIMEZONE
BEGIN:VEVENT
DTSTART;TZID=Europe/Paris:20241214T100000
DTEND;TZID=Europe/Paris:20241214T113000
DTSTAMP:20260425T170708
CREATED:20241205T181523Z
LAST-MODIFIED:20241205T181523Z
UID:6778-1734170400-1734175800@kafeteomomes.fr
SUMMARY:Atelier - conférence : la gestion des émotions
DESCRIPTION:Un atelier parents sur la gestion des émotions & des activités pour les enfants\nConfiez-nous vos enfants de 2 à 12 ans :\n\n3 professionnelles bienveillantes de la petite enfance\nateliers d’arts visuels et création d’un e-book33\néveil musical et corporel\n\nProfitez entre parents d’un atelier sur la gestion des émotions :\n\n3 expertes : décodage des pleurs\, design intérieur et coaching de vie\, naturopathie\ndécouvrez des clés pour comprendre les émotions de votre enfant\napprenez des stratégies concrètes pour retrouver une vie de famille sereine.\n\nTarifs : 1.50€ – gratuit pour les enfants\nRenseignements : 06 64 22 33 08 ou ceuxquinouslisent@gmail.com\nInscription en ligne
URL:https://kafeteomomes.fr/evenement/atelier-conference-la-gestion-des-emotions/
LOCATION:La P’tite Ka’fête\, 3 montée des Esses\, Lyon\, 69004\, France
CATEGORIES:Evènements,Tous public
ATTACH;FMTTYPE=image/jpeg:https://kafeteomomes.fr/uploads/2024/12/Affiche-14-décembre2024-A4-officiel-e1733421978181.jpg
END:VEVENT
END:VCALENDAR