BEGIN:VCALENDAR
VERSION:2.0
PRODID:-//Ka&#039;Fête ô Mômes - ECPv5.9.0//NONSGML v1.0//EN
CALSCALE:GREGORIAN
METHOD:PUBLISH
X-WR-CALNAME:Ka&#039;Fête ô Mômes
X-ORIGINAL-URL:https://kafeteomomes.fr
X-WR-CALDESC:Évènements pour Ka&#039;Fête ô Mômes
BEGIN:VTIMEZONE
TZID:Europe/Paris
BEGIN:DAYLIGHT
TZOFFSETFROM:+0100
TZOFFSETTO:+0200
TZNAME:CEST
DTSTART:20240331T010000
END:DAYLIGHT
BEGIN:STANDARD
TZOFFSETFROM:+0200
TZOFFSETTO:+0100
TZNAME:CET
DTSTART:20241027T010000
END:STANDARD
END:VTIMEZONE
BEGIN:VEVENT
DTSTART;TZID=Europe/Paris:20240221T143000
DTEND;TZID=Europe/Paris:20240221T163000
DTSTAMP:20260426T062002
CREATED:20240216T182628Z
LAST-MODIFIED:20240216T182628Z
UID:6470-1708525800-1708533000@kafeteomomes.fr
SUMMARY:Atelier créatif
DESCRIPTION:Atelier créatif avec Evv Hill\nDans le cadre de son exposition au café familial\, Evv Hill\, alias Stéphanie\, propose aux familles de découvrir son univers graphique et plein de couleurs\, autour d’un atelier créatif ludique ! \nDécouvrez son univers sur Instagram \nTarif : prix libre – Sans réservation\nInfos : 04 78 61 21 79 ou CONTACT
URL:https://kafeteomomes.fr/evenement/atelier-creatif/2024-02-21/
LOCATION:Ka’Fête ô Mômes\, 3 Montée des Esses\, Lyon\, 69004\, France
CATEGORIES:Parents/Enfants,Tous public
ATTACH;FMTTYPE=image/png:https://kafeteomomes.fr/uploads/2024/02/affhiche-A3-expo-colorire-Evv-Hill-image-e1708106745981.png
GEO:45.7740305;4.8122498
X-APPLE-STRUCTURED-LOCATION;VALUE=URI;X-ADDRESS=Ka’Fête ô Mômes 3 Montée des Esses Lyon 69004 France;X-APPLE-RADIUS=500;X-TITLE=3 Montée des Esses:geo:4.8122498,45.7740305
END:VEVENT
END:VCALENDAR