BEGIN:VCALENDAR
VERSION:2.0
PRODID:-//Ka&#039;Fête ô Mômes - ECPv5.9.0//NONSGML v1.0//EN
CALSCALE:GREGORIAN
METHOD:PUBLISH
X-WR-CALNAME:Ka&#039;Fête ô Mômes
X-ORIGINAL-URL:https://kafeteomomes.fr
X-WR-CALDESC:Évènements pour Ka&#039;Fête ô Mômes
BEGIN:VTIMEZONE
TZID:Europe/Paris
BEGIN:DAYLIGHT
TZOFFSETFROM:+0100
TZOFFSETTO:+0200
TZNAME:CEST
DTSTART:20240331T010000
END:DAYLIGHT
BEGIN:STANDARD
TZOFFSETFROM:+0200
TZOFFSETTO:+0100
TZNAME:CET
DTSTART:20241027T010000
END:STANDARD
END:VTIMEZONE
BEGIN:VEVENT
DTSTART;TZID=Europe/Paris:20240127T140000
DTEND;TZID=Europe/Paris:20240127T180000
DTSTAMP:20260423T074934
CREATED:20240117T154921Z
LAST-MODIFIED:20240117T155306Z
UID:6443-1706364000-1706378400@kafeteomomes.fr
SUMMARY:Fête du jeu : à Koi tu joues ?
DESCRIPTION:Première fête du jeu à la Ka’fête !!\nÀ « A Koi tu joues ? »\, \n\non joue\, on mange des crêpes ou des cookies\, on rejoue\,\non troque des jeux\, des jouets\, des jeux vidéos\, des livres\,\non surjoue\, on s’escape en moins de 30mn\, on joue encore\, avec des jeux en bois cette fois\, on a de la place quand on est un bébé\, et puis on joue !!\n\nVous l’aurez compris cette fête est faite pour vous ! De 14h00 à 18h00\, à l’école des Entrepôts\, 2 rue des Entrepôts Lyon 4\, de nombreuses animations autour du jeu vous attendent pour la modique somme de 5€ par famille ! Save the date ! \nSans réservation\nTarif : 5€/famille\nInfos : 04 78 61 21 79 ou CONTACT
URL:https://kafeteomomes.fr/evenement/fete-du-jeu-a-koi-tu-joues/
LOCATION:Ecole des Entrepôts\, 2 rue des Entrepôts\, Lyon\, 69004
CATEGORIES:Evènements,Parents/Enfants,Sorties familiales,Tous public
ATTACH;FMTTYPE=image/jpeg:https://kafeteomomes.fr/uploads/2024/01/image-fête-du-jeu-e1705506504171.jpeg
GEO:45.775661;4.8115947
X-APPLE-STRUCTURED-LOCATION;VALUE=URI;X-ADDRESS=Ecole des Entrepôts 2 rue des Entrepôts Lyon 69004;X-APPLE-RADIUS=500;X-TITLE=2 rue des Entrepôts:geo:4.8115947,45.775661
END:VEVENT
END:VCALENDAR