BEGIN:VCALENDAR
VERSION:2.0
PRODID:-//Ka&#039;Fête ô Mômes - ECPv5.9.0//NONSGML v1.0//EN
CALSCALE:GREGORIAN
METHOD:PUBLISH
X-WR-CALNAME:Ka&#039;Fête ô Mômes
X-ORIGINAL-URL:https://kafeteomomes.fr
X-WR-CALDESC:Évènements pour Ka&#039;Fête ô Mômes
BEGIN:VTIMEZONE
TZID:Europe/Paris
BEGIN:DAYLIGHT
TZOFFSETFROM:+0100
TZOFFSETTO:+0200
TZNAME:CEST
DTSTART:20210328T010000
END:DAYLIGHT
BEGIN:STANDARD
TZOFFSETFROM:+0200
TZOFFSETTO:+0100
TZNAME:CET
DTSTART:20211031T010000
END:STANDARD
END:VTIMEZONE
BEGIN:VEVENT
DTSTART;TZID=Europe/Paris:20210619T100000
DTEND;TZID=Europe/Paris:20210619T180000
DTSTAMP:20260425T021930
CREATED:20210607T122659Z
LAST-MODIFIED:20220607T095615Z
UID:4901-1624096800-1624125600@kafeteomomes.fr
SUMMARY:Les Canuts Kollecteurs & les mémoires gourmandes du quartier
DESCRIPTION:
URL:https://kafeteomomes.fr/evenement/les-canuts-kollecteurs-les-memoires-gourmandes-du-quartier/
LOCATION:Amphithéâtre des 3 Gaules\, lyon\, 69001\, France
CATEGORIES:Evènements,Sorties familiales,Tous public
END:VEVENT
END:VCALENDAR