BEGIN:VCALENDAR
VERSION:2.0
PRODID:-//Ka&#039;Fête ô Mômes - ECPv5.9.0//NONSGML v1.0//EN
CALSCALE:GREGORIAN
METHOD:PUBLISH
X-WR-CALNAME:Ka&#039;Fête ô Mômes
X-ORIGINAL-URL:https://kafeteomomes.fr
X-WR-CALDESC:Évènements pour Ka&#039;Fête ô Mômes
BEGIN:VTIMEZONE
TZID:Europe/Paris
BEGIN:DAYLIGHT
TZOFFSETFROM:+0100
TZOFFSETTO:+0200
TZNAME:CEST
DTSTART:20200329T010000
END:DAYLIGHT
BEGIN:STANDARD
TZOFFSETFROM:+0200
TZOFFSETTO:+0100
TZNAME:CET
DTSTART:20201025T010000
END:STANDARD
END:VTIMEZONE
BEGIN:VEVENT
DTSTART;TZID=Europe/Paris:20200209T110000
DTEND;TZID=Europe/Paris:20200209T170000
DTSTAMP:20260426T011234
CREATED:20200122T095515Z
LAST-MODIFIED:20200122T095515Z
UID:4247-1581246000-1581267600@kafeteomomes.fr
SUMMARY:Un dimanche au café familial !
DESCRIPTION:Ouverture exceptionnelle & solidaire…\ndimanche 9 février 2020\n11h00 à 17h00\nLe collectif d’organisation du séjour intergénérationnel de juillet 2020 propose\, le dimanche 9 février\, un nouvel événement d’autofinancement : l’ouverture du café familial\, de 11 heures à 17 heures. \nAinsi\, ce dimanche\, vous pourrez venir déjeuner (réservation obligatoire) ou goûter en famille ! Pas de cuisiniers ce jour-là aux fourneaux\, mais les parents/grands-parents du projet sauront vous régaler de leurs spécialités\, à prix tout doux : 12€ la formule Grande Faim\, 10€ la formule P’tite Faim et 6€ la formule Enfant. Les gâteaux du goûter seront proposés à 2€. \nAfin de financer le séjour de juillet 2020\, plusieurs actions ont déjà été mises en oeuvre : vide-dressing et bourse aux jouets en décembre\, ventes de créations des P’tits Voyageurs et de boutures de plantes vertes au comptoir du café. \nDes animations seront aussi proposées l’après-midi\, pour plus de convivialité… Programme à suivre ! \nSi vous souhaitez rejoindre le projet\, c’est bien sûr possible\, en contactant Angélique à la Ka’fête.
URL:https://kafeteomomes.fr/evenement/un-dimanche-au-cafe-familial/
LOCATION:Ka’Fête ô Mômes\, 3 Montée des Esses\, Lyon\, 69004\, France
CATEGORIES:3 - 12 ans,Evènements,Parents/Enfants,Sorties familiales,Tous public
ATTACH;FMTTYPE=image/jpeg:https://kafeteomomes.fr/uploads/2016/10/4-ans-et-plus-2-e1579686809171.jpg
GEO:45.7740305;4.8122498
X-APPLE-STRUCTURED-LOCATION;VALUE=URI;X-ADDRESS=Ka’Fête ô Mômes 3 Montée des Esses Lyon 69004 France;X-APPLE-RADIUS=500;X-TITLE=3 Montée des Esses:geo:4.8122498,45.7740305
END:VEVENT
END:VCALENDAR