BEGIN:VCALENDAR
VERSION:2.0
PRODID:-//Ka&#039;Fête ô Mômes - ECPv5.9.0//NONSGML v1.0//EN
CALSCALE:GREGORIAN
METHOD:PUBLISH
X-WR-CALNAME:Ka&#039;Fête ô Mômes
X-ORIGINAL-URL:https://kafeteomomes.fr
X-WR-CALDESC:Évènements pour Ka&#039;Fête ô Mômes
BEGIN:VTIMEZONE
TZID:Europe/Paris
BEGIN:DAYLIGHT
TZOFFSETFROM:+0100
TZOFFSETTO:+0200
TZNAME:CEST
DTSTART:20190331T010000
END:DAYLIGHT
BEGIN:STANDARD
TZOFFSETFROM:+0200
TZOFFSETTO:+0100
TZNAME:CET
DTSTART:20191027T010000
END:STANDARD
END:VTIMEZONE
BEGIN:VEVENT
DTSTART;TZID=Europe/Paris:20191213T184500
DTEND;TZID=Europe/Paris:20191213T210000
DTSTAMP:20260426T035846
CREATED:20191015T135711Z
LAST-MODIFIED:20191203T152208Z
UID:4033-1576262700-1576270800@kafeteomomes.fr
SUMMARY:Soirée "ciné diner" en famille
DESCRIPTION:Soirée Ciné – Dîner des petits !\nvendredi 13 décembre 2019 – 18h45 à 21h00\nA partir de 2 ans\n\n \nC’est la seconde soirée ciné diner de l’année\, venez en famille découvrir (ou redécouvrir) les aventures de Taupek (la Petite Taupe)  et autres trésors de l’animation ! \nProgramme : \n\nFilm surprise !!de quelqu’un\, quelque part\, 1955\, 18 min.… c’est une surprise… mais il y a de la neige…\nLa petite taupe à Noëlde Zdeněk Miler\, Tchécoslovaquie\, 1975\, 6 min.La petite taupe va fêter Noël avec son amie la petite souris\, mais un gros corbeau vient troubler les préparatifs.\n\n\nProjection : à 19h15 précises\nAu menu (repas à 20h) : soupe\, cake\, pizza\, cookies… Au gré des envies d’Aurélien\, le nouveau cuisinier de la Ka’fête ! \nProjection gratuite – repas sur réservation uniquement\nTarif : 8€ / enfant – 10€ / adulte\nInfos & réservation : 04 78 61 21 79 ou Formulaire d’inscription ci dessous\nEn partenariat avec l’association Ciné – Mioches
URL:https://kafeteomomes.fr/evenement/soiree-cine-diner-en-famille-2/
LOCATION:Ka’Fête ô Mômes\, 3 Montée des Esses\, Lyon\, 69004\, France
CATEGORIES:Sorties familiales
ATTACH;FMTTYPE=image/jpeg:https://kafeteomomes.fr/uploads/2016/11/Ciné-diner-e1479312300560.jpg
GEO:45.7740305;4.8122498
X-APPLE-STRUCTURED-LOCATION;VALUE=URI;X-ADDRESS=Ka’Fête ô Mômes 3 Montée des Esses Lyon 69004 France;X-APPLE-RADIUS=500;X-TITLE=3 Montée des Esses:geo:4.8122498,45.7740305
END:VEVENT
END:VCALENDAR