BEGIN:VCALENDAR
VERSION:2.0
PRODID:-//Ka&#039;Fête ô Mômes - ECPv5.9.0//NONSGML v1.0//EN
CALSCALE:GREGORIAN
METHOD:PUBLISH
X-WR-CALNAME:Ka&#039;Fête ô Mômes
X-ORIGINAL-URL:https://kafeteomomes.fr
X-WR-CALDESC:Évènements pour Ka&#039;Fête ô Mômes
BEGIN:VTIMEZONE
TZID:Europe/Paris
BEGIN:DAYLIGHT
TZOFFSETFROM:+0100
TZOFFSETTO:+0200
TZNAME:CEST
DTSTART:20240331T010000
END:DAYLIGHT
BEGIN:STANDARD
TZOFFSETFROM:+0200
TZOFFSETTO:+0100
TZNAME:CET
DTSTART:20241027T010000
END:STANDARD
END:VTIMEZONE
BEGIN:VEVENT
DTSTART;TZID=Europe/Paris:20240405T164500
DTEND;TZID=Europe/Paris:20240405T203000
DTSTAMP:20260423T072938
CREATED:20231106T171848Z
LAST-MODIFIED:20240329T134450Z
UID:6486-1712335500-1712349000@kafeteomomes.fr
SUMMARY:Ka'fête en jeux : la soirée !
DESCRIPTION:La Ka’fête en jeux joue les prolongations !\nProposée par Amélie\, animatrice Ka’fête & ludothécaire\nAmélie\, animatrice à la Ka’fête et passionnée de jeux\, vous propose pour cette soirée spéciale\, de découvrir les jeux d’enquête et d’énigmes\, en partenariat avec la boutique de jeux l’Odyssée des Coccinelles . \nL’occasion de se retrouver en famille ou entre amis\, de découvrir ou redécouvrir des jeux et de partager des tapas. \nGrignoter des tartinades et boire un coup\, ou manger un petit repas végétarien\, préparé par nos chefs\, devant des jeux de société expliqués par Amélie\, animatrice et ludothécaire\, c’est possible à la Ka’fête o mômes ! \nA partir de 3 ans\, avec un adulte accompagnant.\nSans réservation\, dans la limite des places disponibles.\nInfos : 04 78 61 21 79 ou CONTACT
URL:https://kafeteomomes.fr/evenement/kafete-en-jeux-la-soiree-3/2024-04-05/
LOCATION:Ka’Fête ô Mômes\, 3 Montée des Esses\, Lyon\, 69004\, France
CATEGORIES:3 - 12 ans,Evènements,Parents/Enfants,Soirées familiales
ATTACH;FMTTYPE=image/jpeg:https://kafeteomomes.fr/uploads/2023/11/IMG-20230203-WA0005-e1699291071460.jpg
GEO:45.7740305;4.8122498
X-APPLE-STRUCTURED-LOCATION;VALUE=URI;X-ADDRESS=Ka’Fête ô Mômes 3 Montée des Esses Lyon 69004 France;X-APPLE-RADIUS=500;X-TITLE=3 Montée des Esses:geo:4.8122498,45.7740305
END:VEVENT
END:VCALENDAR