BEGIN:VCALENDAR
VERSION:2.0
PRODID:-//Ka&#039;Fête ô Mômes - ECPv5.9.0//NONSGML v1.0//EN
CALSCALE:GREGORIAN
METHOD:PUBLISH
X-WR-CALNAME:Ka&#039;Fête ô Mômes
X-ORIGINAL-URL:https://kafeteomomes.fr
X-WR-CALDESC:Évènements pour Ka&#039;Fête ô Mômes
BEGIN:VTIMEZONE
TZID:Europe/Paris
BEGIN:DAYLIGHT
TZOFFSETFROM:+0100
TZOFFSETTO:+0200
TZNAME:CEST
DTSTART:20230326T010000
END:DAYLIGHT
BEGIN:STANDARD
TZOFFSETFROM:+0200
TZOFFSETTO:+0100
TZNAME:CET
DTSTART:20231029T010000
END:STANDARD
END:VTIMEZONE
BEGIN:VEVENT
DTSTART;TZID=Europe/Paris:20231027T190000
DTEND;TZID=Europe/Paris:20231027T210000
DTSTAMP:20260423T153605
CREATED:20231004T142124Z
LAST-MODIFIED:20231004T142124Z
UID:6351-1698433200-1698440400@kafeteomomes.fr
SUMMARY:Soirée Concert Titou au pays des Songes
DESCRIPTION:Une belle soirée musicale au café familial !\nAvec Matthieu Trincanato\nLors de chaque période de vacances scolaire\, le café familial se transforme en « salle de concert » le temps d’un soir et vous propose un moment de partage\, de découverte et de détente en famille. \nNous démarrons cette nouvelle année scolaire avec un concert « Titou au Pays des Songes« \, pour fêter la première année de sortie de l’album. De cet album découle un « spectacle-concert » tout public. Vous rencontrerez trois personnages qui vous embarqueront dans un voyage riche en rencontres\, en rires et en musique \nAfin que ce moment familial ou amical soit aussi une pause gourmande\, Léa et Claire vous accueilleront au comptoir pour vous proposer des pizzas\, salades de fruits\, et nos fameux cookies\, accompagnés de boissons! N’hésitez pas à venir avec les copains\, papis/mamies\, nounous et cie ! \nRéservation conseillée et accueil le jour J dans la limite des places disponibles.\nInfos : 04 78 61 21 79 ou CONTACT
URL:https://kafeteomomes.fr/evenement/soiree-concert-titou-au-pays-des-songes/
LOCATION:Ka’Fête ô Mômes\, 3 Montée des Esses\, Lyon\, 69004\, France
CATEGORIES:Soirées familiales
ATTACH;FMTTYPE=image/jpeg:https://kafeteomomes.fr/uploads/2023/10/couverture-titou-e1696429251407.jpeg
GEO:45.7740305;4.8122498
X-APPLE-STRUCTURED-LOCATION;VALUE=URI;X-ADDRESS=Ka’Fête ô Mômes 3 Montée des Esses Lyon 69004 France;X-APPLE-RADIUS=500;X-TITLE=3 Montée des Esses:geo:4.8122498,45.7740305
END:VEVENT
END:VCALENDAR