BEGIN:VCALENDAR
VERSION:2.0
PRODID:-//Ka&#039;Fête ô Mômes - ECPv5.9.0//NONSGML v1.0//EN
CALSCALE:GREGORIAN
METHOD:PUBLISH
X-WR-CALNAME:Ka&#039;Fête ô Mômes
X-ORIGINAL-URL:https://kafeteomomes.fr
X-WR-CALDESC:Évènements pour Ka&#039;Fête ô Mômes
BEGIN:VTIMEZONE
TZID:Europe/Paris
BEGIN:DAYLIGHT
TZOFFSETFROM:+0100
TZOFFSETTO:+0200
TZNAME:CEST
DTSTART:20230326T010000
END:DAYLIGHT
BEGIN:STANDARD
TZOFFSETFROM:+0200
TZOFFSETTO:+0100
TZNAME:CET
DTSTART:20231029T010000
END:STANDARD
END:VTIMEZONE
BEGIN:VEVENT
DTSTART;TZID=Europe/Paris:20230407T184500
DTEND;TZID=Europe/Paris:20230407T213000
DTSTAMP:20260423T232918
CREATED:20230324T153752Z
LAST-MODIFIED:20230331T155036Z
UID:6120-1680893100-1680903000@kafeteomomes.fr
SUMMARY:Soirée "Ciné diner" en famille : édition spéciale
DESCRIPTION:Soirée Ciné-Dîner – Ernest et Célestine s’invite à la Ka’fête ! \nÂge conseillé minimum : 5 ans\n \nEdition spéciale pour cette soirée-dîner\, la Ka’fête et Bénédicte Galup\, assistante réalisatrice de Ernest et Célestine vous invite à sa projection. Nous vous proposons ensuite un court échange sur le film. \nL’histoire : Dans le monde conventionnel des ours\, il est mal vu de se lier d’amitié avec une souris. Et pourtant\, Ernest\, gros ours marginal\, clown et musicien\, va accueillir chez lui la petite Célestine\, une orpheline qui a fui le monde souterrain des rongeurs. Ces deux solitaires vont se soutenir et se réconforter\, et bousculer ainsi l’ordre établi… \nProgramme : un repas puis\nAu menu (repas à 19h) : soupe\, cake\, pizza\, cookies… Au gré des envies de notre chef Maurizio !\n Projection : à 19h45 précises \nProjection gratuite – repas sur réservation uniquement\nTarif : 8€ / enfant – 10€ / adulte\nInfos : 04 78 61 21 79 \n\nJe clique ICI pour m’inscrire à cette soirée !
URL:https://kafeteomomes.fr/evenement/soiree-cine-diner-edition-speciale/
LOCATION:Ka’Fête ô Mômes\, 3 Montée des Esses\, Lyon\, 69004\, France
CATEGORIES:Soirées familiales
GEO:45.7740305;4.8122498
X-APPLE-STRUCTURED-LOCATION;VALUE=URI;X-ADDRESS=Ka’Fête ô Mômes 3 Montée des Esses Lyon 69004 France;X-APPLE-RADIUS=500;X-TITLE=3 Montée des Esses:geo:4.8122498,45.7740305
END:VEVENT
END:VCALENDAR