BEGIN:VCALENDAR
VERSION:2.0
PRODID:-//Ka&#039;Fête ô Mômes - ECPv5.9.0//NONSGML v1.0//EN
CALSCALE:GREGORIAN
METHOD:PUBLISH
X-WR-CALNAME:Ka&#039;Fête ô Mômes
X-ORIGINAL-URL:https://kafeteomomes.fr
X-WR-CALDESC:Évènements pour Ka&#039;Fête ô Mômes
BEGIN:VTIMEZONE
TZID:Europe/Paris
BEGIN:DAYLIGHT
TZOFFSETFROM:+0100
TZOFFSETTO:+0200
TZNAME:CEST
DTSTART:20220327T010000
END:DAYLIGHT
BEGIN:STANDARD
TZOFFSETFROM:+0200
TZOFFSETTO:+0100
TZNAME:CET
DTSTART:20221030T010000
END:STANDARD
END:VTIMEZONE
BEGIN:VEVENT
DTSTART;TZID=Europe/Paris:20220128T163000
DTEND;TZID=Europe/Paris:20220128T210000
DTSTAMP:20260424T202743
CREATED:20220114T155103Z
LAST-MODIFIED:20220119T150912Z
UID:5310-1643387400-1643403600@kafeteomomes.fr
SUMMARY:Soirée Contes : raconte-moi les silences
DESCRIPTION:Une soirée pour conter et (ra)conter les sujets tabous\nEt moi alors ? Moi aussi je veux savoir. Raconte-moi pourquoi\, explique-moi. Pourquoi as-tu peur ? Je n’ai pas peur\, moi. Je suis prêt.e. \nDes sujets tabous… Ce soir il n’y en a pas !\nEt si on s’asseyait et qu’on écoutait Marion\, Yann et Marie nous raconter des histoires pour nous parler de ça. Ça quoi ? La mort\, la maladie\, le genre et l’identité et même l’inceste.\nOui\, mais comment ? Avec un peu de poésie\, un peu de marionnettes\, un peu d’humour. Faisons leur confiance\, à leur manière\, laissons-les nous embarquer\, petits et grands dans les histoires. Abordons ensemble ces thématiques dont on parle peu\, faute de savoir comment. \nOn vous propose cette soirée TOUT public* et inédite au programme bien particulier : \n\n16h30-18h30 / OUVERT à tous & GRATUIT\nTable de sensibilisation (à partir de 17h30) autour de l’inceste et des violences sexuelles (supports : www.leloup.org) animée par une professeure des écoles. Espace ressources et vente de livres avec la libraire jeunesse A Titre d’Aile.\n\n\n18h45 – 21h00 / SUR RÉSERVATION\nTemps des histoires : “Raconte-moi les silences” avec Marion\, Yann\, et Marie autour des livres sélectionnés :\nLe petit Cafard de Maman – Sophie Jackson\nPetit doux n’a pas peur – Marie Wabbes\nLa croûte – Charlotte Moundlic & Olivier Tallec\nPrincess Kevin – Rolland Garigue\nMon papy perce-neige – Bertina Birkjaer\nTemps du repas\n\n*animations conseillées à partir de 3 ans \nIllustration : ©Chloé Revel \nTarif : 8€ / enfant – 10€ / adulte – 5€ pour les minimas sociaux (RSA\, ASS\, ASH\, ASPA…)\nInfos : 04 78 61 21 79 ou CONTACT\nEn partenariat avec la librairie jeunesse A Titre d’Aile \n\nJe clique ICI pour m’inscrire à cette soirée !
URL:https://kafeteomomes.fr/evenement/soiree-contes-raconte-moi-les-silences/
LOCATION:Ka’Fête ô Mômes\, 3 Montée des Esses\, Lyon\, 69004\, France
CATEGORIES:Evènements,Soirées familiales
ATTACH;FMTTYPE=image/png:https://kafeteomomes.fr/uploads/2022/01/Capture-d’écran-2022-01-12-à-09.54.14-e1642174436669.png
GEO:45.7740305;4.8122498
X-APPLE-STRUCTURED-LOCATION;VALUE=URI;X-ADDRESS=Ka’Fête ô Mômes 3 Montée des Esses Lyon 69004 France;X-APPLE-RADIUS=500;X-TITLE=3 Montée des Esses:geo:4.8122498,45.7740305
END:VEVENT
END:VCALENDAR