BEGIN:VCALENDAR
VERSION:2.0
PRODID:-//Ka&#039;Fête ô Mômes - ECPv5.9.0//NONSGML v1.0//EN
CALSCALE:GREGORIAN
METHOD:PUBLISH
X-WR-CALNAME:Ka&#039;Fête ô Mômes
X-ORIGINAL-URL:https://kafeteomomes.fr
X-WR-CALDESC:Évènements pour Ka&#039;Fête ô Mômes
BEGIN:VTIMEZONE
TZID:Europe/Paris
BEGIN:DAYLIGHT
TZOFFSETFROM:+0100
TZOFFSETTO:+0200
TZNAME:CEST
DTSTART:20220327T010000
END:DAYLIGHT
BEGIN:STANDARD
TZOFFSETFROM:+0200
TZOFFSETTO:+0100
TZNAME:CET
DTSTART:20221030T010000
END:STANDARD
END:VTIMEZONE
BEGIN:VEVENT
DTSTART;TZID=Europe/Paris:20220108T190000
DTEND;TZID=Europe/Paris:20220108T210000
DTSTAMP:20260424T202733
CREATED:20211213T165118Z
LAST-MODIFIED:20220103T142605Z
UID:5216-1641668400-1641675600@kafeteomomes.fr
SUMMARY:Apéro-concert en famille ! / ANNULE !
DESCRIPTION:Concert de Didier Sustrac & Odile Barlier\n  \nEt si pour bien commencer l’année 2022\, vous embarquiez pour le Brésil\, son soleil et ses musiques chaloupées ? Didier Sustrac est né en Provence\, mais son cœur est à moitié brésilien depuis qu’il a découvert les rythmes de la Bossa nova avec Joao Gilberto.  Odile Barlier a étudié le violoncelle\, mais elle préfère la « musique sauvage »\, celle du souffle dans les arbres\, de l’écoulement de l’eau\, la résonance d’un objet… Ses « percussions sauvages » sont en harmonie avec la guitare de Didier Sustrac.\nUne soirée familiale et ensoleillée au cœur de l’hiver ! \nAssiette apéritive variée\, proposée par nos chefs ! \nTarifs : 15€/adulte & 12€/enfant\nInfos : 04 78 61 21 79 ou CONTACT
URL:https://kafeteomomes.fr/evenement/apero-concert-en-famille/
LOCATION:Ka’Fête ô Mômes\, 3 Montée des Esses\, Lyon\, 69004\, France
CATEGORIES:Evènements,Soirées familiales
ATTACH;FMTTYPE=image/jpeg:https://kafeteomomes.fr/uploads/2021/12/affiche-def-LYON-e1639413427673.jpg
GEO:45.7740305;4.8122498
X-APPLE-STRUCTURED-LOCATION;VALUE=URI;X-ADDRESS=Ka’Fête ô Mômes 3 Montée des Esses Lyon 69004 France;X-APPLE-RADIUS=500;X-TITLE=3 Montée des Esses:geo:4.8122498,45.7740305
END:VEVENT
END:VCALENDAR