BEGIN:VCALENDAR
VERSION:2.0
PRODID:-//Ka&#039;Fête ô Mômes - ECPv5.9.0//NONSGML v1.0//EN
CALSCALE:GREGORIAN
METHOD:PUBLISH
X-WR-CALNAME:Ka&#039;Fête ô Mômes
X-ORIGINAL-URL:https://kafeteomomes.fr
X-WR-CALDESC:Évènements pour Ka&#039;Fête ô Mômes
BEGIN:VTIMEZONE
TZID:Europe/Paris
BEGIN:DAYLIGHT
TZOFFSETFROM:+0100
TZOFFSETTO:+0200
TZNAME:CEST
DTSTART:20200329T010000
END:DAYLIGHT
BEGIN:STANDARD
TZOFFSETFROM:+0200
TZOFFSETTO:+0100
TZNAME:CET
DTSTART:20201025T010000
END:STANDARD
END:VTIMEZONE
BEGIN:VEVENT
DTSTART;TZID=Europe/Paris:20200322T150000
DTEND;TZID=Europe/Paris:20200322T180000
DTSTAMP:20260425T161343
CREATED:20200311T113332Z
LAST-MODIFIED:20200313T143836Z
UID:4373-1584889200-1584900000@kafeteomomes.fr
SUMMARY:Dimanche cocooning en famille !
DESCRIPTION:Après-midi cocooning à la Ka’fête\ndimanche 22 mars – 15h00 à 18h00\nTous âges (enfants accompagnés) // PLACES LIMITÉES !!\nUn temps pour prendre soin de soi à la fin de l’hiver… Venez découvrir la Ka’fête autrement\, et profiter d’un bon moment de détente avec Marion. Au programme : coiffure\, maquillage\, massage\, relooking\, etc. \nPour les enfants\, Laly proposera un atelier danse – relaxation\, de 15h30 à 16h30. \nSur place\, vente de gâteaux maison et boissons. \nTarif : 5€ / supplément de 3€ pour l’atelier danse-relaxation\nInfos & réservations : 04 78 61 21 79 ou contact \nTous les bénéfices de cette journée serviront à financer le séjour intergénérationnel de juillet 2020.
URL:https://kafeteomomes.fr/evenement/dimanche-cocooning-enfamille/
LOCATION:Ka’Fête ô Mômes\, 3 Montée des Esses\, Lyon\, 69004\, France
CATEGORIES:Evènements,Parents/Enfants,Pour les parents,Tous public
GEO:45.7740305;4.8122498
X-APPLE-STRUCTURED-LOCATION;VALUE=URI;X-ADDRESS=Ka’Fête ô Mômes 3 Montée des Esses Lyon 69004 France;X-APPLE-RADIUS=500;X-TITLE=3 Montée des Esses:geo:4.8122498,45.7740305
END:VEVENT
END:VCALENDAR