BEGIN:VCALENDAR
VERSION:2.0
PRODID:-//Ka&#039;Fête ô Mômes - ECPv5.9.0//NONSGML v1.0//EN
CALSCALE:GREGORIAN
METHOD:PUBLISH
X-WR-CALNAME:Ka&#039;Fête ô Mômes
X-ORIGINAL-URL:https://kafeteomomes.fr
X-WR-CALDESC:Évènements pour Ka&#039;Fête ô Mômes
BEGIN:VTIMEZONE
TZID:Europe/Paris
BEGIN:DAYLIGHT
TZOFFSETFROM:+0100
TZOFFSETTO:+0200
TZNAME:CEST
DTSTART:20240331T010000
END:DAYLIGHT
BEGIN:STANDARD
TZOFFSETFROM:+0200
TZOFFSETTO:+0100
TZNAME:CET
DTSTART:20241027T010000
END:STANDARD
END:VTIMEZONE
BEGIN:VEVENT
DTSTART;TZID=Europe/Paris:20240113T103000
DTEND;TZID=Europe/Paris:20240113T120000
DTSTAMP:20260423T003702
CREATED:20231204T103959Z
LAST-MODIFIED:20240112T135519Z
UID:6423-1705141800-1705147200@kafeteomomes.fr
SUMMARY:Street-art avec les Toki / ANNULE !
DESCRIPTION:Le petit laboratoire de gélules\nProposé par les Toki\, street-artistes lyonnais\n \nLes Toki débarquent à la Ka’fête !  Vous avez forcément croisé leurs bonshommes gélules sur les murs des Pentes et d’ailleurs. Le duo (Kiki & Toto) propose un atelier collage et création de sa propre gélule à partir d’éléments de tous leurs personnages. Un atelier ludique pour petits et grands enfants\, abordant différentes techniques : découpage\, collage\, assemblage\, coloriage\, dessin… \nEn savoir plus sur les Toki…\n« Nous sommes un duo d’artistes lyonnais\, créateurs d’un concept de gélule\, des petits personnages souriant avec un seul œil au milieu de la tête\, pas de bras ni de jambes. Nous réinterprétons nos personnages préférés de la pop culture\, autour d’un design simple\, reconnaissable et fort graphiquement. L’essence même de notre démarche est de travailler le côté ludique de l’art à travers la création de personnages aux couleurs vives. » \nRetrouvez-les sur Instagram & Facebook \nA NOTER : les Toki animeront un mini stage de 2 jours pendant les prochaines vacances de printemps ! Intéressé(e) ? Envoie un mail à accueil@kafeteomomes.fr \nEnfant de 6 ans (avec 1 adulte) à 100 ans !\nTarif : 19€/enfant (5€ par personne supplémentaire) ou 11€/duo pour les minimas sociaux (3€ par personne supplémentaire)\nInfos : 04 78 61 21 79 ou CONTACT
URL:https://kafeteomomes.fr/evenement/street-art-avec-les-toki/
LOCATION:Ka’Fête ô Mômes\, 3 Montée des Esses\, Lyon\, 69004\, France
CATEGORIES:7 - 12 ans
ATTACH;FMTTYPE=image/jpeg:https://kafeteomomes.fr/uploads/2023/12/IMG_20221119_114251-e1701686314128.jpg
GEO:45.7740305;4.8122498
X-APPLE-STRUCTURED-LOCATION;VALUE=URI;X-ADDRESS=Ka’Fête ô Mômes 3 Montée des Esses Lyon 69004 France;X-APPLE-RADIUS=500;X-TITLE=3 Montée des Esses:geo:4.8122498,45.7740305
END:VEVENT
END:VCALENDAR