BEGIN:VCALENDAR
VERSION:2.0
PRODID:-//Ka&#039;Fête ô Mômes - ECPv5.9.0//NONSGML v1.0//EN
CALSCALE:GREGORIAN
METHOD:PUBLISH
X-WR-CALNAME:Ka&#039;Fête ô Mômes
X-ORIGINAL-URL:https://kafeteomomes.fr
X-WR-CALDESC:Évènements pour Ka&#039;Fête ô Mômes
BEGIN:VTIMEZONE
TZID:Europe/Paris
BEGIN:DAYLIGHT
TZOFFSETFROM:+0100
TZOFFSETTO:+0200
TZNAME:CEST
DTSTART:20230326T010000
END:DAYLIGHT
BEGIN:STANDARD
TZOFFSETFROM:+0200
TZOFFSETTO:+0100
TZNAME:CET
DTSTART:20231029T010000
END:STANDARD
END:VTIMEZONE
BEGIN:VEVENT
DTSTART;TZID=Europe/Paris:20230420T090000
DTEND;TZID=Europe/Paris:20230421T170000
DTSTAMP:20260423T123052
CREATED:20230301T173125Z
LAST-MODIFIED:20230309T101315Z
UID:6112-1681981200-1682096400@kafeteomomes.fr
SUMMARY:mini stage : JEU DE CARTES MAGIC
DESCRIPTION:Stage Jeu de cartes Magic : The Gathering\njeudi 20 et vendredi 21 avril – de 09H00 à 17H00\n7 à 11 ans\n\nProposé par Alexandre Esparza\, animateur Ka’fête\nFan de cartes à collectionner ? Alexandre vous propose un stage sur le thème du jeu de cartes Magic : The Gathering !! Au menu : tournois\, jeux de rôles\, création de cartes et développement de l’imaginaire. \nTarif : de 20 à 100€ les 2 jours (selon votre quotient familial) – Repas du midi compris\nInscriptions via ce formulaire\nInfos : CONTACT ou 04 78 61 21 79
URL:https://kafeteomomes.fr/evenement/mini-stage-jeu-de-cartes-magic/
LOCATION:Ka’Fête ô Mômes\, 3 Montée des Esses\, Lyon\, 69004\, France
CATEGORIES:7 - 12 ans
ATTACH;FMTTYPE=image/jpeg:https://kafeteomomes.fr/uploads/2022/09/1588184526ikoriaarena-e1677691262304.jpg
GEO:45.7740305;4.8122498
X-APPLE-STRUCTURED-LOCATION;VALUE=URI;X-ADDRESS=Ka’Fête ô Mômes 3 Montée des Esses Lyon 69004 France;X-APPLE-RADIUS=500;X-TITLE=3 Montée des Esses:geo:4.8122498,45.7740305
END:VEVENT
END:VCALENDAR