BEGIN:VCALENDAR
VERSION:2.0
PRODID:-//Ka&#039;Fête ô Mômes - ECPv5.9.0//NONSGML v1.0//EN
CALSCALE:GREGORIAN
METHOD:PUBLISH
X-WR-CALNAME:Ka&#039;Fête ô Mômes
X-ORIGINAL-URL:https://kafeteomomes.fr
X-WR-CALDESC:Évènements pour Ka&#039;Fête ô Mômes
BEGIN:VTIMEZONE
TZID:Europe/Paris
BEGIN:DAYLIGHT
TZOFFSETFROM:+0100
TZOFFSETTO:+0200
TZNAME:CEST
DTSTART:20230326T010000
END:DAYLIGHT
BEGIN:STANDARD
TZOFFSETFROM:+0200
TZOFFSETTO:+0100
TZNAME:CET
DTSTART:20231029T010000
END:STANDARD
END:VTIMEZONE
BEGIN:VEVENT
DTSTART;TZID=Europe/Paris:20230213T090000
DTEND;TZID=Europe/Paris:20230217T170000
DTSTAMP:20260423T151647
CREATED:20230120T173252Z
LAST-MODIFIED:20230203T171505Z
UID:6031-1676278800-1676653200@kafeteomomes.fr
SUMMARY:Stage : création d'un kamishibai
DESCRIPTION:Création d’un kamishibai textile\n\nlundi 13 au vendredi 17 février – de 09H00 à 17H00\n7  à 11 ans – présence de seniors\n\nProposé par Mathina Langrée\, coordinatrice du projet intergénérationnel.\nEt si l’élaboration d’une histoire devenait l’occasion d’expérimenter de nombreuses méthodes de création textiles et de mieux connaître la vie des Canuts ? Grâce à des activités en lien avec les Soieries Vivantes\, enfants et seniors vont pouvoir visiter d’authentiques ateliers de Canuts et voir fonctionner des métiers à tisser d’époque. Ils pourront imaginer l’histoire\, imaginer les illustrations du kamishibai\, décorer les illustrations avec des méthodes textiles\, s’entrainer à conter l’histoire et enfin présenter leur réalisation lors d’un spectacle.  \nTarif : de 50€ à 250€ la semaine (selon votre quotient familial) – Repas du midi compris\nLieu : Grande Ka’fête – 53 montée de la Grande Côte\, Lyon 1er\nInscriptions via ce formulaire au plus tard le mercredi 8 février\nInfos : CONTACT ou 04 78 61 21 79
URL:https://kafeteomomes.fr/evenement/creation-dun-kamishibai/
LOCATION:Ka’Fête ô Mômes\, 3 Montée des Esses\, Lyon\, 69004\, France
CATEGORIES:7 - 12 ans
ATTACH;FMTTYPE=image/jpeg:https://kafeteomomes.fr/uploads/2022/12/hd-wallpaper-3834528-e1674235568427.jpg
GEO:45.7740305;4.8122498
X-APPLE-STRUCTURED-LOCATION;VALUE=URI;X-ADDRESS=Ka’Fête ô Mômes 3 Montée des Esses Lyon 69004 France;X-APPLE-RADIUS=500;X-TITLE=3 Montée des Esses:geo:4.8122498,45.7740305
END:VEVENT
END:VCALENDAR