BEGIN:VCALENDAR
VERSION:2.0
PRODID:-//Ka&#039;Fête ô Mômes - ECPv5.9.0//NONSGML v1.0//EN
CALSCALE:GREGORIAN
METHOD:PUBLISH
X-WR-CALNAME:Ka&#039;Fête ô Mômes
X-ORIGINAL-URL:https://kafeteomomes.fr
X-WR-CALDESC:Évènements pour Ka&#039;Fête ô Mômes
BEGIN:VTIMEZONE
TZID:Europe/Paris
BEGIN:DAYLIGHT
TZOFFSETFROM:+0100
TZOFFSETTO:+0200
TZNAME:CEST
DTSTART:20230326T010000
END:DAYLIGHT
BEGIN:STANDARD
TZOFFSETFROM:+0200
TZOFFSETTO:+0100
TZNAME:CET
DTSTART:20231029T010000
END:STANDARD
END:VTIMEZONE
BEGIN:VEVENT
DTSTART;TZID=Europe/Paris:20230206T090000
DTEND;TZID=Europe/Paris:20230210T170000
DTSTAMP:20260423T151648
CREATED:20230123T161919Z
LAST-MODIFIED:20230123T161919Z
UID:6033-1675674000-1676048400@kafeteomomes.fr
SUMMARY:Stage : les ateliers DIY *
DESCRIPTION:Une semaine de créations en tout genre !\nlundi 6 au vendredi 10 février – de 09H00 à 17H00\n7  à 11 ans \n\nProposé par Amélie\, animatrice et  ludothécaire\nÇa va bricoler aux ateliers d’Amélie (DIY) ! Du slime au porte-clefs\, de la tempête en bouteille aux bijoux\, du planneur aux balles sensorielles\, vous allez créer\, expérimenter et jouer ! \n* Do It Yourself\nTarif : de 50€ à 250€ la semaine (selon votre quotient familial) – Repas du midi compris\nLieu : Ecole des Entrepôts – 2 rue des Entrepôts\, Lyon 4\nInscriptions via ce formulaire au plus tard le lundi 30 janvier\nInfos : CONTACT ou 04 78 61 21 79
URL:https://kafeteomomes.fr/evenement/stage-les-ateliers-diy/
LOCATION:Ecole des Entrepôts\, 2 rue des Entrepôts\, Lyon\, 69004
CATEGORIES:7 - 12 ans
ATTACH;FMTTYPE=image/jpeg:https://kafeteomomes.fr/uploads/2023/01/slime.jpg
GEO:45.775661;4.8115947
X-APPLE-STRUCTURED-LOCATION;VALUE=URI;X-ADDRESS=Ecole des Entrepôts 2 rue des Entrepôts Lyon 69004;X-APPLE-RADIUS=500;X-TITLE=2 rue des Entrepôts:geo:4.8115947,45.775661
END:VEVENT
BEGIN:VEVENT
DTSTART;TZID=Europe/Paris:20230206T090000
DTEND;TZID=Europe/Paris:20230210T170000
DTSTAMP:20260423T151648
CREATED:20230123T163340Z
LAST-MODIFIED:20230123T163340Z
UID:6035-1675674000-1676048400@kafeteomomes.fr
SUMMARY:Stage : jeu de rôle
DESCRIPTION:Que les dés soient avec vous !\nlundi 6 au vendredi 10 février – de 09H00 à 17H00\n7  à 11 ans \n\nProposé par Antoine\, animateur\nVous avez l’imagination fertile ? Vous adorez jouer un rôle et inventer des histoires ? Alors ce stage est fait pour vous ! Venez participez à une quête épique dans un monde fantastique\, en incarnant de puissants héros et héroïnes !  \nTarif : de 50€ à 250€ la semaine (selon votre quotient familial) – Repas du midi compris\nLieu : Ecole des Entrepôts – 2 rue des Entrepôts\, Lyon 4\nInscriptions via ce formulaire au plus tard le lundi 30 janvier\nInfos : CONTACT ou 04 78 61 21 79
URL:https://kafeteomomes.fr/evenement/stage-jeu-de-role/
LOCATION:Ecole des Entrepôts\, 2 rue des Entrepôts\, Lyon\, 69004
CATEGORIES:7 - 12 ans
ATTACH;FMTTYPE=image/jpeg:https://kafeteomomes.fr/uploads/2022/12/firn-jdr-e1674491243905.jpg
GEO:45.775661;4.8115947
X-APPLE-STRUCTURED-LOCATION;VALUE=URI;X-ADDRESS=Ecole des Entrepôts 2 rue des Entrepôts Lyon 69004;X-APPLE-RADIUS=500;X-TITLE=2 rue des Entrepôts:geo:4.8115947,45.775661
END:VEVENT
END:VCALENDAR