BEGIN:VCALENDAR
VERSION:2.0
PRODID:-//Ka&#039;Fête ô Mômes - ECPv5.9.0//NONSGML v1.0//EN
CALSCALE:GREGORIAN
METHOD:PUBLISH
X-WR-CALNAME:Ka&#039;Fête ô Mômes
X-ORIGINAL-URL:https://kafeteomomes.fr
X-WR-CALDESC:Évènements pour Ka&#039;Fête ô Mômes
BEGIN:VTIMEZONE
TZID:Europe/Paris
BEGIN:DAYLIGHT
TZOFFSETFROM:+0100
TZOFFSETTO:+0200
TZNAME:CEST
DTSTART:20220327T010000
END:DAYLIGHT
BEGIN:STANDARD
TZOFFSETFROM:+0200
TZOFFSETTO:+0100
TZNAME:CET
DTSTART:20221030T010000
END:STANDARD
END:VTIMEZONE
BEGIN:VEVENT
DTSTART;TZID=Europe/Paris:20221222T103000
DTEND;TZID=Europe/Paris:20221222T120000
DTSTAMP:20260423T175029
CREATED:20221201T102417Z
LAST-MODIFIED:20221221T160502Z
UID:5955-1671705000-1671710400@kafeteomomes.fr
SUMMARY:Mandala libre / ANNULE !
DESCRIPTION:Rencontrer l’autre à travers les couleurs & les formes\nProposé par Malika Merel\, plasticienne & animatrice d’ateliers de mandala libre\nGrâce au mandala libre\, Malika propose à chacun d’aller à la rencontre de l’autre\, de lâcher ses repères graphiques  » classiques » en se connectant à son cerveau droit : le cerveau de l’intuition. \nDéroulé de l’atelier :  \n\nL’atelier débute par une rapide présentation de ce qu’est le mandala collectif libre sur le principe du patchwork\, puis du matériel utilisé : crayons aquarellables et papier de couleurs (collage).\nEnsuite\, un petit temps de respiration et « Neuro gym Tonic » ( Brain gym )\, pour se mettre en condition\nPuis répartition des participants en 2 groupes de 3 à 4 enfants .\n\nAfin de remplir complètement le mandala\, les enfants changent de place régulièrement ou font tourner le mandala (timing de 10 mn environ) et poursuivent le dessin de leur voisin(e). Il en résulte une œuvre collective très colorée élaborée dans une ambiance ludique et conviviale. \nEnfant solo – de 6 à 12 ans\nTarif : 16€/enfant \n10€/enfant pour les titulaires des minimas sociaux (RSA\, ASS\, AAH\, ASPA…)\nTitulaire d’un « compte famille Ka’fête » : nous contacter pour réserver\nInfos : 04 78 61 21 79 ou CONTACT
URL:https://kafeteomomes.fr/evenement/mandala-libre/
LOCATION:Ka’Fête ô Mômes\, 3 Montée des Esses\, Lyon\, 69004\, France
CATEGORIES:7 - 12 ans
ATTACH;FMTTYPE=image/jpeg:https://kafeteomomes.fr/uploads/2022/12/IMG20220523125450-e1669890081571.jpg
GEO:45.7740305;4.8122498
X-APPLE-STRUCTURED-LOCATION;VALUE=URI;X-ADDRESS=Ka’Fête ô Mômes 3 Montée des Esses Lyon 69004 France;X-APPLE-RADIUS=500;X-TITLE=3 Montée des Esses:geo:4.8122498,45.7740305
END:VEVENT
END:VCALENDAR