BEGIN:VCALENDAR
VERSION:2.0
PRODID:-//Ka&#039;Fête ô Mômes - ECPv5.9.0//NONSGML v1.0//EN
CALSCALE:GREGORIAN
METHOD:PUBLISH
X-WR-CALNAME:Ka&#039;Fête ô Mômes
X-ORIGINAL-URL:https://kafeteomomes.fr
X-WR-CALDESC:Évènements pour Ka&#039;Fête ô Mômes
BEGIN:VTIMEZONE
TZID:Europe/Paris
BEGIN:DAYLIGHT
TZOFFSETFROM:+0100
TZOFFSETTO:+0200
TZNAME:CEST
DTSTART:20220327T010000
END:DAYLIGHT
BEGIN:STANDARD
TZOFFSETFROM:+0200
TZOFFSETTO:+0100
TZNAME:CET
DTSTART:20221030T010000
END:STANDARD
END:VTIMEZONE
BEGIN:VEVENT
DTSTART;TZID=Europe/Paris:20221024T090000
DTEND;TZID=Europe/Paris:20221028T170000
DTSTAMP:20260423T202502
CREATED:20220921T095716Z
LAST-MODIFIED:20220921T150216Z
UID:5828-1666602000-1666976400@kafeteomomes.fr
SUMMARY:Stage des vacances : spectacle de marionnettes
DESCRIPTION:Création d’un spectacle de marionnettes\n\nlundi 24 au vendredi 28 octobre – de 09H00 à 17H00\n7  à 11 ans – présence de seniors\n\nProposé par Mathina Langrée\, coordinatrice du projet intergénérationnel.\nEt si enfants et seniors mettaient en scène leur monde imaginaire ? En partenariat avec le Musée des Arts de la Marionnette \, les enfants vont créer et interpréter leur propre spectacle de marionnettes. Ils pourront participer à toutes les étapes : écriture de l’histoire\, création des marionnettes\, réalisation des décors\, mise en scène du spectacle et enfin animation des marionnettes lors du spectacle.  \nTarif : de 50€ à 250€ la semaine (selon votre quotient familial) – Repas du midi compris\nInscriptions via ce formulaire au plus tard le mercredi 19 octobre\nInfos : CONTACT ou 04 78 61 21 79
URL:https://kafeteomomes.fr/evenement/stage-des-vacances-spectacle-de-marionnettes/
LOCATION:Ka’Fête ô Mômes\, 3 Montée des Esses\, Lyon\, 69004\, France
CATEGORIES:7 - 12 ans
ATTACH;FMTTYPE=image/jpeg:https://kafeteomomes.fr/uploads/2022/09/mam_visite_famille_8.jpg
GEO:45.7740305;4.8122498
X-APPLE-STRUCTURED-LOCATION;VALUE=URI;X-ADDRESS=Ka’Fête ô Mômes 3 Montée des Esses Lyon 69004 France;X-APPLE-RADIUS=500;X-TITLE=3 Montée des Esses:geo:4.8122498,45.7740305
END:VEVENT
END:VCALENDAR