BEGIN:VCALENDAR
VERSION:2.0
PRODID:-//Ka&#039;Fête ô Mômes - ECPv5.9.0//NONSGML v1.0//EN
CALSCALE:GREGORIAN
METHOD:PUBLISH
X-WR-CALNAME:Ka&#039;Fête ô Mômes
X-ORIGINAL-URL:https://kafeteomomes.fr
X-WR-CALDESC:Évènements pour Ka&#039;Fête ô Mômes
BEGIN:VTIMEZONE
TZID:Europe/Paris
BEGIN:DAYLIGHT
TZOFFSETFROM:+0100
TZOFFSETTO:+0200
TZNAME:CEST
DTSTART:20220327T010000
END:DAYLIGHT
BEGIN:STANDARD
TZOFFSETFROM:+0200
TZOFFSETTO:+0100
TZNAME:CET
DTSTART:20221030T010000
END:STANDARD
END:VTIMEZONE
BEGIN:VEVENT
DTSTART;TZID=Europe/Paris:20220930T183000
DTEND;TZID=Europe/Paris:20220930T210000
DTSTAMP:20260423T202701
CREATED:20220919T131826Z
LAST-MODIFIED:20220929T141833Z
UID:5785-1664562600-1664571600@kafeteomomes.fr
SUMMARY:Ka'fête en jeux : La Soirée ! / ANNULEE !
DESCRIPTION:La Ka’fête en jeux joue les prolongations !\nProposée par Amélie\, animatrice Ka’fête & ludothécaire\nAmélie\, animatrice à la Ka’fête et passionnée de jeux\, vous propose pour cette soirée des jeux inédits pour fêter le week-end. L’occasion de se retrouver en famille ou entre amis\, de découvrir ou redécouvrir des jeux et de partager des tapas. \nJeux de stratégie\, d’ambiance\, de coopération\, d’équilibre\, de réflexe… seront mis à votre disposition et expliqués par Amélie. \nLes p’tits plats de Maurizio satisferont vos papilles pour une soirée repas/jeux idéale ! Et pour accompagner tout ça\, nous vous proposons des boissons chaudes\, de la bière locale\, un large choix de sirops et d’autres boissons pour les petits et les grands. \nA partir de 3 ans\, avec un adulte accompagnant.\nTarifs : 8€ enfant / 10€ adulte – avec repas –\nInfos : 04 78 61 21 79 ou CONTACT
URL:https://kafeteomomes.fr/evenement/kafete-en-jeux-la-soiree-2/
LOCATION:Ka’Fête ô Mômes\, 3 Montée des Esses\, Lyon\, 69004\, France
CATEGORIES:3 - 12 ans,7 - 12 ans,Evènements,Parents/Enfants,Soirées familiales
ATTACH;FMTTYPE=image/jpeg:https://kafeteomomes.fr/uploads/2022/09/soirée-kafête-en-jeux-e1676563559233.jpg
GEO:45.7740305;4.8122498
X-APPLE-STRUCTURED-LOCATION;VALUE=URI;X-ADDRESS=Ka’Fête ô Mômes 3 Montée des Esses Lyon 69004 France;X-APPLE-RADIUS=500;X-TITLE=3 Montée des Esses:geo:4.8122498,45.7740305
END:VEVENT
END:VCALENDAR