BEGIN:VCALENDAR
VERSION:2.0
PRODID:-//Ka&#039;Fête ô Mômes - ECPv5.9.0//NONSGML v1.0//EN
CALSCALE:GREGORIAN
METHOD:PUBLISH
X-WR-CALNAME:Ka&#039;Fête ô Mômes
X-ORIGINAL-URL:https://kafeteomomes.fr
X-WR-CALDESC:Évènements pour Ka&#039;Fête ô Mômes
BEGIN:VTIMEZONE
TZID:Europe/Paris
BEGIN:DAYLIGHT
TZOFFSETFROM:+0100
TZOFFSETTO:+0200
TZNAME:CEST
DTSTART:20220327T010000
END:DAYLIGHT
BEGIN:STANDARD
TZOFFSETFROM:+0200
TZOFFSETTO:+0100
TZNAME:CET
DTSTART:20221030T010000
END:STANDARD
END:VTIMEZONE
BEGIN:VEVENT
DTSTART;TZID=Europe/Paris:20220711T100000
DTEND;TZID=Europe/Paris:20220711T113000
DTSTAMP:20260424T002914
CREATED:20220617T151947Z
LAST-MODIFIED:20220708T085055Z
UID:5629-1657533600-1657539000@kafeteomomes.fr
SUMMARY:Afrique en scène / ANNULE !
DESCRIPTION:Expression théâtrale & corporelle\nProposé par Amélie Maison\, la Semeuse de graines\nEn juillet\, partez à la découverte du Maroc\, du Burkina Faso et du Sénégal ! Amélie\, ancienne animatrice de la Ka’fête partie vivre en Afrique\, revient vous proposer quelques animations directement inspirées des pays où elle a vécu et vit encore. \nL’atelier « Afrique en scène » proposera aux parents accompagnés de leurs enfants différents jeux d’expression théâtrale et corporelle.\nDéroulé de l’atelier : \n\nIntroduction de séance : exercices de mise en connexion des binômes parents/enfants et du groupe.\nPartie 1: jeux de déplacements\nPartie 2: mise en mouvements rythmés par des musiques traditionnelles des trois pays.\nPartie 3 : jeux autour des émotions en utilisant quelques expressions de salutations des différents dialectes.\nPartie 4: création de saynettes sur la vie quotidienne des trois pays.\nFin de l’atelier : conte traditionnel d’Afrique de l’Ouest.\n\nEn savoir plus sur Amélie…\nAmélie MAISON ou la « Semeuse de graines » est de retour à la Ka’fête ô mômes ! Animatrice culturelle\, conteuse et enseignante depuis 7 ans en maternelle\, elle place depuis toujours le conte et les expressions artistiques au centre de sa pédagogie. Forte de son expérience de vie de 8 ans au Burkina\, au Maroc et au Sénégal\, elle vous propose en juillet plusieurs ateliers parents/enfants sur le thème de l’Afrique. \n1 adulte + 1 enfant – à partir de 4 ans \nTarif : 19€/duo (5€ par personne supplémentaire)\n12€/duo pour les titulaires des minimas sociaux (RSA\, ASS\, AAH\, ASPA…)\nTitulaire d’un « compte famille Ka’fête » : nous contacter pour réserver\nInfos : 04 78 61 21 79 ou CONTACT
URL:https://kafeteomomes.fr/evenement/afrique-en-scene/2022-07-11/
LOCATION:Ka’Fête ô Mômes\, 3 Montée des Esses\, Lyon\, 69004\, France
CATEGORIES:7 - 12 ans,Parents/Enfants
ATTACH;FMTTYPE=image/jpeg:https://kafeteomomes.fr/uploads/2022/06/Amélie-M.jpg
GEO:45.7740305;4.8122498
X-APPLE-STRUCTURED-LOCATION;VALUE=URI;X-ADDRESS=Ka’Fête ô Mômes 3 Montée des Esses Lyon 69004 France;X-APPLE-RADIUS=500;X-TITLE=3 Montée des Esses:geo:4.8122498,45.7740305
END:VEVENT
BEGIN:VEVENT
DTSTART;TZID=Europe/Paris:20220711T143000
DTEND;TZID=Europe/Paris:20220711T160000
DTSTAMP:20260424T002914
CREATED:20220704T161154Z
LAST-MODIFIED:20220704T161154Z
UID:5643-1657549800-1657555200@kafeteomomes.fr
SUMMARY:MINIATURES PERSANES
DESCRIPTION:Un atelier entre Orient & Occident \nProposé par Niloufar Basiri\nCréation d’une fresque collective à travers l’intégration de miniatures persanes sur une toile de Jouy. Cet atelier éducatif et ludique permet de découvrir une partie de notre patrimoine et faire la connaissance d’un autre. \nEn savoir plus sur Niloufar…\n \nNée en 1985 à Ispahan\, Niloufar Basiri est une artiste protéiforme qui laisse son héritage culturel iranien se confronter à son appréhension du territoire français. Après avoir obtenu son DNSEP à l’école supérieure d’art de Clermont Métropole en 2020\, elle est actuellement résidente au GrandLarge\, l’association pour la jeune création en Auvergne-Rhône-Alpes. Elle révèle dans ses peintures et broderies des paysages oniriques. Par ses performances\, elle explore les limites du langage et de la traduction. \n1 adulte + 1 enfant – à partir de 7 ans \nGRATUIT – sur réservation\nInfos : 04 78 61 21 79 ou CONTACT\nJe clique ICI pour m’inscrire à cet atelier !
URL:https://kafeteomomes.fr/evenement/miniatures-persanes/
LOCATION:Ka’Fête ô Mômes\, 3 Montée des Esses\, Lyon\, 69004\, France
CATEGORIES:7 - 12 ans,Evènements,Parents/Enfants
ATTACH;FMTTYPE=image/jpeg:https://kafeteomomes.fr/uploads/2022/07/atelier_miniatures-persanes.jpg
GEO:45.7740305;4.8122498
X-APPLE-STRUCTURED-LOCATION;VALUE=URI;X-ADDRESS=Ka’Fête ô Mômes 3 Montée des Esses Lyon 69004 France;X-APPLE-RADIUS=500;X-TITLE=3 Montée des Esses:geo:4.8122498,45.7740305
END:VEVENT
END:VCALENDAR