BEGIN:VCALENDAR
VERSION:2.0
PRODID:-//Ka&#039;Fête ô Mômes - ECPv5.9.0//NONSGML v1.0//EN
CALSCALE:GREGORIAN
METHOD:PUBLISH
X-WR-CALNAME:Ka&#039;Fête ô Mômes
X-ORIGINAL-URL:https://kafeteomomes.fr
X-WR-CALDESC:Évènements pour Ka&#039;Fête ô Mômes
BEGIN:VTIMEZONE
TZID:Europe/Paris
BEGIN:DAYLIGHT
TZOFFSETFROM:+0100
TZOFFSETTO:+0200
TZNAME:CEST
DTSTART:20220327T010000
END:DAYLIGHT
BEGIN:STANDARD
TZOFFSETFROM:+0200
TZOFFSETTO:+0100
TZNAME:CET
DTSTART:20221030T010000
END:STANDARD
END:VTIMEZONE
BEGIN:VEVENT
DTSTART;TZID=Europe/Paris:20220408T170000
DTEND;TZID=Europe/Paris:20220408T180000
DTSTAMP:20260424T050438
CREATED:20220331T102643Z
LAST-MODIFIED:20220331T102646Z
UID:5442-1649437200-1649440800@kafeteomomes.fr
SUMMARY:Atelier DIY
DESCRIPTION:Peinture sur galets !\n\nAtelier proposé par Maly\, notre señorita bénévole\nEn famille\, avec les copains ou en solo\, vous dégusterez un bon goûter maison\, puis vous peindrez des galets accompagné.e.s de Maly\, bénévole connue pour ses créations et sa bonne humeur.\nSurprise : nos copains de Chez Daddy seront parmi nous ! \nTarif FORMULE goûter : 5€ \nInfos & réservation : nina@kafeteomomes.fr ou 04 78 61 21 79
URL:https://kafeteomomes.fr/evenement/atelier-diy/
LOCATION:Ka’Fête ô Mômes\, 3 Montée des Esses\, Lyon\, 69004\, France
CATEGORIES:3 - 12 ans,7 - 12 ans,Evènements,Parents/Enfants
ATTACH;FMTTYPE=image/jpeg:https://kafeteomomes.fr/uploads/2022/03/Sans-titre-2-e1648721716845.jpg
GEO:45.7740305;4.8122498
X-APPLE-STRUCTURED-LOCATION;VALUE=URI;X-ADDRESS=Ka’Fête ô Mômes 3 Montée des Esses Lyon 69004 France;X-APPLE-RADIUS=500;X-TITLE=3 Montée des Esses:geo:4.8122498,45.7740305
END:VEVENT
END:VCALENDAR