BEGIN:VCALENDAR
VERSION:2.0
PRODID:-//Ka&#039;Fête ô Mômes - ECPv5.9.0//NONSGML v1.0//EN
CALSCALE:GREGORIAN
METHOD:PUBLISH
X-WR-CALNAME:Ka&#039;Fête ô Mômes
X-ORIGINAL-URL:https://kafeteomomes.fr
X-WR-CALDESC:Évènements pour Ka&#039;Fête ô Mômes
BEGIN:VTIMEZONE
TZID:Europe/Paris
BEGIN:DAYLIGHT
TZOFFSETFROM:+0100
TZOFFSETTO:+0200
TZNAME:CEST
DTSTART:20220327T010000
END:DAYLIGHT
BEGIN:STANDARD
TZOFFSETFROM:+0200
TZOFFSETTO:+0100
TZNAME:CET
DTSTART:20221030T010000
END:STANDARD
END:VTIMEZONE
BEGIN:VEVENT
DTSTART;TZID=Europe/Paris:20220316T153000
DTEND;TZID=Europe/Paris:20220316T170000
DTSTAMP:20260424T062558
CREATED:20220309T105004Z
LAST-MODIFIED:20220314T143225Z
UID:5376-1647444600-1647450000@kafeteomomes.fr
SUMMARY:Fête du court-métrage & Atelier créatif
DESCRIPTION:La fête du court-métrage\nFestival national du 16 au 22 mars 2022\nCe festival a pour but de faciliter l’accès à de grands films courts pour faire découvrir ou redécouvrir le court-métrage.\nPour en savoir plus sur ce festival : La fête du court métrage\nA cette occasion\, la Ka’fête ô mômes vous propose un moment en famille. \nRDV le mercredi 16 mars 2022 à 15h20 pour une projection de 15h30 à 16h00 ! \n\nTitre :  Le recolleur  de feuilles\nSynopsis :\nLéon a 72 ans et se dit « recolleur de feuilles » : le dernier d’un métier aujourd’hui oublié. Dès l’automne venu\, il ramasse les feuilles mortes qu’il repeint pour les recoller aux arbres à l’arrivée du printemps.\n\n\nProduction : Origine Films\n\n\nPays de production : France\n\n\nActeurs : Yves-Robert Viala\, Didier Pioger\, François Rochette\n\n\nRéalisation : Rémy Rondeau\n\nDe 16h00 à 17h00\, Romane et Etienne vous proposent un atelier créatif intergénérationnel en lien avec le court métrage. Places limitées et gratuites\, pensez à réserver ! \nComme d’habitude\, boissons chaudes ou froides avec nos habituels cookies pour un goûter seront au rdv ! \nPour les enfants de 6 à 10 ans.\nGratuit – Sans réservation\nInfos : 04 78 61 21 79 ou CONTACT\nJe clique ICI pour m’inscrire à cet atelier.
URL:https://kafeteomomes.fr/evenement/fete-du-court-metrage-atelier-creatif/
LOCATION:Ka’Fête ô Mômes\, 3 Montée des Esses\, Lyon\, 69004\, France
CATEGORIES:3 - 12 ans,7 - 12 ans
ATTACH;FMTTYPE=image/jpeg:https://kafeteomomes.fr/uploads/2022/03/fête-du-court-métrage-16.04-15.30_page-0001-e1646821617809.jpg
GEO:45.7740305;4.8122498
X-APPLE-STRUCTURED-LOCATION;VALUE=URI;X-ADDRESS=Ka’Fête ô Mômes 3 Montée des Esses Lyon 69004 France;X-APPLE-RADIUS=500;X-TITLE=3 Montée des Esses:geo:4.8122498,45.7740305
END:VEVENT
END:VCALENDAR