BEGIN:VCALENDAR
VERSION:2.0
PRODID:-//Ka&#039;Fête ô Mômes - ECPv5.9.0//NONSGML v1.0//EN
CALSCALE:GREGORIAN
METHOD:PUBLISH
X-WR-CALNAME:Ka&#039;Fête ô Mômes
X-ORIGINAL-URL:https://kafeteomomes.fr
X-WR-CALDESC:Évènements pour Ka&#039;Fête ô Mômes
BEGIN:VTIMEZONE
TZID:Europe/Paris
BEGIN:DAYLIGHT
TZOFFSETFROM:+0100
TZOFFSETTO:+0200
TZNAME:CEST
DTSTART:20220327T010000
END:DAYLIGHT
BEGIN:STANDARD
TZOFFSETFROM:+0200
TZOFFSETTO:+0100
TZNAME:CET
DTSTART:20221030T010000
END:STANDARD
END:VTIMEZONE
BEGIN:VEVENT
DTSTART;TZID=Europe/Paris:20220221T090000
DTEND;TZID=Europe/Paris:20220225T170000
DTSTAMP:20260424T074535
CREATED:20220114T122209Z
LAST-MODIFIED:20220119T182210Z
UID:5303-1645434000-1645808400@kafeteomomes.fr
SUMMARY:Stage des vacances d'hiver : théâtre
DESCRIPTION:Théâtre d’improvisation\n\nlundi 21 au vendredi 25 février – de 09H00 à 17H00\n7 à 12 ans\n\nProposé par Isabelle Zitouni\, animatrice & professeure de théâtre\nVos enfants ont envie de découvrir le théâtre\, jouer la comédie\, passer un moment de découverte et de convivialité pendant les vacances d’hiver ? Isabelle leur propose d’explorer les bases du théâtre\, avec un accompagnement professionnel et bienveillant.  Jeux collectifs\, improvisations et exercices sur scène permettront à votre enfant d’expérimenter une expression gestuelle et verbale de leur imagination. \n  \nTarif : de 50€ à 250€ la semaine (selon votre quotient familial) – Repas du midi compris\nInscriptions via ce formulaire au plus tard le mercredi 9 février\nInfos : CONTACT ou 04 78 61 21 79
URL:https://kafeteomomes.fr/evenement/stage-des-vacances-dhiver-theatre/
LOCATION:Ecole des Entrepôts\, 2 rue des Entrepôts\, Lyon\, 69004
CATEGORIES:7 - 12 ans
ATTACH;FMTTYPE=image/jpeg:https://kafeteomomes.fr/uploads/2022/01/Visuel-Isabelle-e1642162837748.jpeg
GEO:45.775661;4.8115947
X-APPLE-STRUCTURED-LOCATION;VALUE=URI;X-ADDRESS=Ecole des Entrepôts 2 rue des Entrepôts Lyon 69004;X-APPLE-RADIUS=500;X-TITLE=2 rue des Entrepôts:geo:4.8115947,45.775661
END:VEVENT
BEGIN:VEVENT
DTSTART;TZID=Europe/Paris:20220221T090000
DTEND;TZID=Europe/Paris:20220225T170000
DTSTAMP:20260424T074535
CREATED:20220114T150526Z
LAST-MODIFIED:20220119T182425Z
UID:5307-1645434000-1645808400@kafeteomomes.fr
SUMMARY:Stage des vacances d'hiver : cartes Magic
DESCRIPTION:Jeu de cartes Magic : The Gathering\n\nlundi 21 au vendredi 25 février – de 09H00 à 17H00\n7 à 12 ans\n\nProposé par Alexandre Esparza\, animateur & fan des cartes Magic\nFans de cartes à collectionner ? Alexandre vous propose un stage sur le thème du jeu de cartes « Magic : the Gathering » ! Au programme : tournois tout au long de la semaine\, jeux de rôles\, création de cartes et autres réalisations autour de l’univers de ce jeu fascinant. \nPour les parents néophytes de ce jeu\, lisez cet article et vous comprendrez ce qu’est le fameux « desk » dont parle votre enfant ! \nTarif : de 50€ à 250€ la semaine (selon votre quotient familial) – Repas du midi compris\nInscriptions via ce formulaire au plus tard le mercredi 9 février\nInfos : CONTACT ou 04 78 61 21 79
URL:https://kafeteomomes.fr/evenement/stage-des-vacances-dhiver-cartes-magic/
LOCATION:Ecole des Entrepôts\, 2 rue des Entrepôts\, Lyon\, 69004
CATEGORIES:7 - 12 ans
ATTACH;FMTTYPE=image/jpeg:https://kafeteomomes.fr/uploads/2022/01/Visuel-Alex.jpeg
GEO:45.775661;4.8115947
X-APPLE-STRUCTURED-LOCATION;VALUE=URI;X-ADDRESS=Ecole des Entrepôts 2 rue des Entrepôts Lyon 69004;X-APPLE-RADIUS=500;X-TITLE=2 rue des Entrepôts:geo:4.8115947,45.775661
END:VEVENT
BEGIN:VEVENT
DTSTART;TZID=Europe/Paris:20220222T143000
DTEND;TZID=Europe/Paris:20220222T160000
DTSTAMP:20260424T074535
CREATED:20220118T164737Z
LAST-MODIFIED:20220221T205948Z
UID:5318-1645540200-1645545600@kafeteomomes.fr
SUMMARY:Cœur effet vitrail pour mamie / ANNULE !
DESCRIPTION:Création d’un cœur effet vitrail\n\nProposé par Claire\, des ateliers Au Joyeux Bazar de Claire\nLa relation enfant/grand-parent\, quand elle est possible\, est vraiment magique\, tant pour les enfants que pour les grands-parents ! Si vous avez la chance d’avoir une Super Mamie\, venez lui fabriquer de jolis cœurs à effet vitrail\, pour lui offrir ou\, encore mieux\, venez le fabriquer ensemble et partager un moment de complicité ! \nAu Joyeux Bazar de Claire…\nJeune femme dynamique et maman bienveillante et créative\, Claire a décidé de devenir animatrice de liens et de créer Au Joyeux Bazar de Claire.\nLes ateliers créatifs\, et le jeu plus largement\, sont indispensables au développement psychomoteur de l’enfant. Ce sont aussi de merveilleux outils au service des relations humaines et de la sensibilisation.\nLes objectifs des activités proposées par Claire sont de : \n\npartager ensemble un moment privilégié de création\, loin des écrans et du quotidien\ndévelopper la créativité\, la motricité\, la curiosité et la confiance de l’enfant\n(re)découvrir le plaisir simple de faire et de créer en sensibilisant les enfants (et les grands) au mieux vivre ensemble\, notamment par l’utilisation d’objets de récupération\n\n\n\nAdulte + Enfant de 4 à 10 ans\nTarif : 20€/duo (5€ par personne supplémentaire)\n12€/duo pour les titulaires des minimas sociaux (RSA\, ASS\, AAH\, ASPA…)\nTitulaire d’un « compte famille Ka’fête » : nous contacter pour réserver\nInfos : 04 78 61 21 79 ou contact\nSuivez Au Joyeux Bazar de Claire sur Facebook & Instagram  !
URL:https://kafeteomomes.fr/evenement/coeur-effet-vitrail-pour-mamie/
LOCATION:Ka’Fête ô Mômes\, 3 Montée des Esses\, Lyon\, 69004\, France
CATEGORIES:7 - 12 ans,Parents/Enfants
ATTACH;FMTTYPE=image/png:https://kafeteomomes.fr/uploads/2021/11/Visuel-Atelier-Creatif-Au-Joyeux-Bazar-de-Claire-e1637938990142.png
GEO:45.7740305;4.8122498
X-APPLE-STRUCTURED-LOCATION;VALUE=URI;X-ADDRESS=Ka’Fête ô Mômes 3 Montée des Esses Lyon 69004 France;X-APPLE-RADIUS=500;X-TITLE=3 Montée des Esses:geo:4.8122498,45.7740305
END:VEVENT
END:VCALENDAR