BEGIN:VCALENDAR
VERSION:2.0
PRODID:-//Ka&#039;Fête ô Mômes - ECPv5.9.0//NONSGML v1.0//EN
CALSCALE:GREGORIAN
METHOD:PUBLISH
X-WR-CALNAME:Ka&#039;Fête ô Mômes
X-ORIGINAL-URL:https://kafeteomomes.fr
X-WR-CALDESC:Évènements pour Ka&#039;Fête ô Mômes
BEGIN:VTIMEZONE
TZID:Europe/Paris
BEGIN:DAYLIGHT
TZOFFSETFROM:+0100
TZOFFSETTO:+0200
TZNAME:CEST
DTSTART:20210328T010000
END:DAYLIGHT
BEGIN:STANDARD
TZOFFSETFROM:+0200
TZOFFSETTO:+0100
TZNAME:CET
DTSTART:20211031T010000
END:STANDARD
END:VTIMEZONE
BEGIN:VEVENT
DTSTART;TZID=Europe/Paris:20211220T150000
DTEND;TZID=Europe/Paris:20211220T160000
DTSTAMP:20260424T104707
CREATED:20211126T133558Z
LAST-MODIFIED:20211219T174150Z
UID:5172-1640012400-1640016000@kafeteomomes.fr
SUMMARY:Paysage d'hiver en 3D / ANNULE !
DESCRIPTION:Création d’un paysage enneigé en relief\n\nProposé par Soledad Carbone\, des ateliers TOUT COMME des grands\nAu cours de cet atelier\, Soledad te montrera comment fabriquer un beau paysage enneigé en 3D\, avec des sapins et des animaux de la forêt\, avec du simple carton et de jolies couleurs ! \nTOUT COMME des grands et Soledad…\nLes ateliers TOUT COMME des grands\, développés par Soledad & Marine depuis 2017\,  ce sont des ateliers ludiques\, pédagogiques et sur-mesure pour développer la créativité et les connaissances artistiques des enfants. Tout comme Picasso\, Tout comme Rodin\, Tout comme Klee\, etc. Le plaisir de découvrir et de faire TOUT COMME des grands ! \nSoledad est une ancienne décoratrice de plateaux TV à Buenos Aires. Arrivée en France\, elle devient animatrice d’ateliers artistiques et pédagogiques à Paris\, dans le Réseau Mom’artre et rencontre sa future associée\, Marine  : c’est un coup de foudre professionnel ! Désormais maman et installée à Lyon depuis peu\, Soledad veut faire profiter les p’tits gones de son savoir-faire en matière d’éveil à l’Art. \nEnfant de 7 à 11 ans\nTarif : 14€/enfant\n9€/enfant pour les titulaires des minimas sociaux (RSA\, ASS\, AAH\, ASPA…)\nTitulaire d’un « compte famille Ka’fête » : nous contacter pour réserver\nInfos : 04 78 61 21 79 ou contact\nSuivez TOUT COMME des grands sur Instagram !
URL:https://kafeteomomes.fr/evenement/paysage-dhiver-en-3d/
LOCATION:Ka’Fête ô Mômes\, 3 Montée des Esses\, Lyon\, 69004\, France
CATEGORIES:7 - 12 ans
ATTACH;FMTTYPE=image/png:https://kafeteomomes.fr/uploads/2021/11/20-décembre-village-3D.png
GEO:45.7740305;4.8122498
X-APPLE-STRUCTURED-LOCATION;VALUE=URI;X-ADDRESS=Ka’Fête ô Mômes 3 Montée des Esses Lyon 69004 France;X-APPLE-RADIUS=500;X-TITLE=3 Montée des Esses:geo:4.8122498,45.7740305
END:VEVENT
END:VCALENDAR