BEGIN:VCALENDAR
VERSION:2.0
PRODID:-//Ka&#039;Fête ô Mômes - ECPv5.9.0//NONSGML v1.0//EN
CALSCALE:GREGORIAN
METHOD:PUBLISH
X-WR-CALNAME:Ka&#039;Fête ô Mômes
X-ORIGINAL-URL:https://kafeteomomes.fr
X-WR-CALDESC:Évènements pour Ka&#039;Fête ô Mômes
BEGIN:VTIMEZONE
TZID:Europe/Paris
BEGIN:DAYLIGHT
TZOFFSETFROM:+0100
TZOFFSETTO:+0200
TZNAME:CEST
DTSTART:20210328T010000
END:DAYLIGHT
BEGIN:STANDARD
TZOFFSETFROM:+0200
TZOFFSETTO:+0100
TZNAME:CET
DTSTART:20211031T010000
END:STANDARD
END:VTIMEZONE
BEGIN:VEVENT
DTSTART;TZID=Europe/Paris:20210215T150000
DTEND;TZID=Europe/Paris:20210215T160000
DTSTAMP:20260425T003858
CREATED:20210118T174637Z
LAST-MODIFIED:20210119T103124Z
UID:4747-1613401200-1613404800@kafeteomomes.fr
SUMMARY:Yoga en duo (3 à 12 ans)
DESCRIPTION:Yoga parent/enfant\nProposé par Claire Chodek\, professeure de Yoga\, passionnée d’art et d’enfants\nAtelier parent/enfant (de 3 à 12 ans)\nCet atelier va vous permettre de prendre conscience de son corps\, à travers diverses postures. que nous verrons au cours de la séance. La séance débutera par un moment de relaxation\, de visualisation et d’imagination. C’est un temps interactif qui renforcera la concentration de votre enfant\, sa créativité et sa confiance. Sans compétition\, juste l’art du moment présent à partager.\nPrévoir une tenue confortable (jogging\, pantalon souple…) \nTarif : 13€ par duo (5€ par enfant supplémentaire)\nInfos et résa : 04 78 61 21 79 ou formulaire d’inscription ci dessous
URL:https://kafeteomomes.fr/evenement/yoga-en-duo/
LOCATION:Ka’Fête ô Mômes\, 3 Montée des Esses\, Lyon\, 69004\, France
CATEGORIES:7 - 12 ans,Parents/Enfants
ATTACH;FMTTYPE=image/jpeg:https://kafeteomomes.fr/uploads/2017/05/Yoga-4-1-e1610991947130.jpg
GEO:45.7740305;4.8122498
X-APPLE-STRUCTURED-LOCATION;VALUE=URI;X-ADDRESS=Ka’Fête ô Mômes 3 Montée des Esses Lyon 69004 France;X-APPLE-RADIUS=500;X-TITLE=3 Montée des Esses:geo:4.8122498,45.7740305
END:VEVENT
END:VCALENDAR