BEGIN:VCALENDAR
VERSION:2.0
PRODID:-//Ka&#039;Fête ô Mômes - ECPv5.9.0//NONSGML v1.0//EN
CALSCALE:GREGORIAN
METHOD:PUBLISH
X-WR-CALNAME:Ka&#039;Fête ô Mômes
X-ORIGINAL-URL:https://kafeteomomes.fr
X-WR-CALDESC:Évènements pour Ka&#039;Fête ô Mômes
BEGIN:VTIMEZONE
TZID:Europe/Paris
BEGIN:DAYLIGHT
TZOFFSETFROM:+0100
TZOFFSETTO:+0200
TZNAME:CEST
DTSTART:20210328T010000
END:DAYLIGHT
BEGIN:STANDARD
TZOFFSETFROM:+0200
TZOFFSETTO:+0100
TZNAME:CET
DTSTART:20211031T010000
END:STANDARD
END:VTIMEZONE
BEGIN:VEVENT
DTSTART;TZID=Europe/Paris:20210208T090000
DTEND;TZID=Europe/Paris:20210212T170000
DTSTAMP:20260425T003816
CREATED:20210118T172120Z
LAST-MODIFIED:20210316T135224Z
UID:4745-1612774800-1613149200@kafeteomomes.fr
SUMMARY:Stage des vacances d’hiver
DESCRIPTION:Réalisation d’une émission de radio\nlundi 8 au vendredi 12 février – de 09H00 à 17H00\n7  à 12 ans – présence de seniors\n\nProposé par Angélique Bricod\, animatrice du projet intergénérationnel.\nEn partenariat avec RadioSonic (Compagnie Impulse)\, les enfants pourront s’immerger dans l’univers radiophonique pour réaliser une émission intergé !\nA travers une thématique choisie par le groupe\, ils vont préparer des interviews à destination des seniors\, créer jingle\, logo et autres chroniques\, allant jusqu’à enregistrer l’émission dans les conditions du direct ! Ils s’approprieront tous les aspects techniques et créatifs de ce monde sonore. \nEn fonction du contexte sanitaire\, les échanges avec les seniors se feront en réel ou à distance. \nTarif : de 50€ à 250€ la semaine (selon votre quotient familial) – Repas du midi compris\nInscriptions avant le mercredi 3 février\nInfos & inscriptions : 04 78 61 21 79 ou formulaire d’inscription ci dessous
URL:https://kafeteomomes.fr/evenement/stage-des-vacances-dhiver-2021/
LOCATION:Ka’Fête ô Mômes\, 3 Montée des Esses\, Lyon\, 69004\, France
CATEGORIES:7 - 12 ans
ATTACH;FMTTYPE=image/jpeg:https://kafeteomomes.fr/uploads/2021/01/stage-RADIO-e1610989294657.jpg
GEO:45.7740305;4.8122498
X-APPLE-STRUCTURED-LOCATION;VALUE=URI;X-ADDRESS=Ka’Fête ô Mômes 3 Montée des Esses Lyon 69004 France;X-APPLE-RADIUS=500;X-TITLE=3 Montée des Esses:geo:4.8122498,45.7740305
END:VEVENT
END:VCALENDAR