BEGIN:VCALENDAR
VERSION:2.0
PRODID:-//Ka&#039;Fête ô Mômes - ECPv5.9.0//NONSGML v1.0//EN
CALSCALE:GREGORIAN
METHOD:PUBLISH
X-WR-CALNAME:Ka&#039;Fête ô Mômes
X-ORIGINAL-URL:https://kafeteomomes.fr
X-WR-CALDESC:Évènements pour Ka&#039;Fête ô Mômes
BEGIN:VTIMEZONE
TZID:Europe/Paris
BEGIN:DAYLIGHT
TZOFFSETFROM:+0100
TZOFFSETTO:+0200
TZNAME:CEST
DTSTART:20200329T010000
END:DAYLIGHT
BEGIN:STANDARD
TZOFFSETFROM:+0200
TZOFFSETTO:+0100
TZNAME:CET
DTSTART:20201025T010000
END:STANDARD
END:VTIMEZONE
BEGIN:VEVENT
DTSTART;TZID=Europe/Paris:20200430T143000
DTEND;TZID=Europe/Paris:20200430T160000
DTSTAMP:20260425T144446
CREATED:20191118T150454Z
LAST-MODIFIED:20191118T151011Z
UID:4167-1588257000-1588262400@kafeteomomes.fr
SUMMARY:Atelier cuisine\, les secrets d'Italie !
DESCRIPTION:Pizzas\, Fougasses et gressins…\nProposé par Maurizio\, le cuistot de la Ka’fête.\n \nCette fois ci\, Maurizio partagera avec les enfants tous les secrets de cuisine d’Italie\, son pays natal. Comment concocter de super bonnes pizzas\, de délicieuses fougasses et des gressins pour accompagner tout ça ? Venez et vous saurez tout !\n \nTarif : 12€/enfant\nInfos & réservation : 04 78 61 21 79 ou formulaire  ci dessous
URL:https://kafeteomomes.fr/evenement/cuisine-et-blagues-beignets-bugnes-et-rigolade/
LOCATION:Ka’Fête ô Mômes\, 3 Montée des Esses\, Lyon\, 69004\, France
CATEGORIES:7 - 12 ans
ATTACH;FMTTYPE=image/jpeg:https://kafeteomomes.fr/uploads/2016/12/cuisine-parents-enfants.jpg
GEO:45.7740305;4.8122498
X-APPLE-STRUCTURED-LOCATION;VALUE=URI;X-ADDRESS=Ka’Fête ô Mômes 3 Montée des Esses Lyon 69004 France;X-APPLE-RADIUS=500;X-TITLE=3 Montée des Esses:geo:4.8122498,45.7740305
END:VEVENT
END:VCALENDAR