BEGIN:VCALENDAR
VERSION:2.0
PRODID:-//Ka&#039;Fête ô Mômes - ECPv5.9.0//NONSGML v1.0//EN
CALSCALE:GREGORIAN
METHOD:PUBLISH
X-WR-CALNAME:Ka&#039;Fête ô Mômes
X-ORIGINAL-URL:https://kafeteomomes.fr
X-WR-CALDESC:Évènements pour Ka&#039;Fête ô Mômes
BEGIN:VTIMEZONE
TZID:Europe/Paris
BEGIN:DAYLIGHT
TZOFFSETFROM:+0100
TZOFFSETTO:+0200
TZNAME:CEST
DTSTART:20200329T010000
END:DAYLIGHT
BEGIN:STANDARD
TZOFFSETFROM:+0200
TZOFFSETTO:+0100
TZNAME:CET
DTSTART:20201025T010000
END:STANDARD
END:VTIMEZONE
BEGIN:VEVENT
DTSTART;TZID=Europe/Paris:20200428T103000
DTEND;TZID=Europe/Paris:20200428T120000
DTSTAMP:20260425T144445
CREATED:20200103T111251Z
LAST-MODIFIED:20200103T111251Z
UID:4236-1588069800-1588075200@kafeteomomes.fr
SUMMARY:Fruits et légumes : pour voir la vie en couleurs !!
DESCRIPTION:Atelier cuisine\, fruits et légumes\nPour voir la vie en couleurs !!\n\nProposé par Emmanuelle Saby\, naturopathe.\nAtelier pour les enfants à partir de 7 ans\n\nJe vous proposerai\, de manière sensorielle (toucher\, odorat\, goût)\, de reconnaître ou de découvrir les fruits et légumes. Je vous expliquerai ensuite leur rôle\, leur intérêt pour la santé\, leur action sur notre corps\, pourquoi manger des fruits et légumes de saison ? Nous terminerons par une petite dégustation de quelques smoothies riches en fruits et légumes\, qu’il faudra essayer de reconnaître ! \n\nTarif : 12€ par enfant\nInfos et résas : 04 78 61 21 79 ou formulaire d’inscription ci dessous
URL:https://kafeteomomes.fr/evenement/fruits-et-legumes-pour-voir-la-vie-en-couleurs/
LOCATION:Ka’Fête ô Mômes\, 3 Montée des Esses\, Lyon\, 69004\, France
CATEGORIES:7 - 12 ans
ATTACH;FMTTYPE=image/jpeg:https://kafeteomomes.fr/uploads/2020/01/fruits-et-légumes.jpg
GEO:45.7740305;4.8122498
X-APPLE-STRUCTURED-LOCATION;VALUE=URI;X-ADDRESS=Ka’Fête ô Mômes 3 Montée des Esses Lyon 69004 France;X-APPLE-RADIUS=500;X-TITLE=3 Montée des Esses:geo:4.8122498,45.7740305
END:VEVENT
END:VCALENDAR