BEGIN:VCALENDAR
VERSION:2.0
PRODID:-//Ka&#039;Fête ô Mômes - ECPv5.9.0//NONSGML v1.0//EN
CALSCALE:GREGORIAN
METHOD:PUBLISH
X-WR-CALNAME:Ka&#039;Fête ô Mômes
X-ORIGINAL-URL:https://kafeteomomes.fr
X-WR-CALDESC:Évènements pour Ka&#039;Fête ô Mômes
BEGIN:VTIMEZONE
TZID:Europe/Paris
BEGIN:DAYLIGHT
TZOFFSETFROM:+0100
TZOFFSETTO:+0200
TZNAME:CEST
DTSTART:20200329T010000
END:DAYLIGHT
BEGIN:STANDARD
TZOFFSETFROM:+0200
TZOFFSETTO:+0100
TZNAME:CET
DTSTART:20201025T010000
END:STANDARD
END:VTIMEZONE
BEGIN:VEVENT
DTSTART;TZID=Europe/Paris:20200420T090000
DTEND;TZID=Europe/Paris:20200424T170000
DTSTAMP:20260425T161100
CREATED:20191114T095633Z
LAST-MODIFIED:20191114T095633Z
UID:4157-1587373200-1587747600@kafeteomomes.fr
SUMMARY:Stage des vacances de printemps
DESCRIPTION:Théâtre d’improvisation et création d’un spectacle\n\nlundi 20 au vendredi 24 Avril 2020 – 09h00 à 17h00\n7 à 12 ans – présence de séniors\nProposé par Angélique Bricod\, animatrice du projet intergénérationnel.\n\nImproviser\, jouer la comédie\, et imaginer un spectacle de théâtre d’impro\, tel sera le but de cette semaine. A travers des jeux d’impro\, les enfants s’amuseront avec leur corps et leur voix\, et libéreront leur imagination. Le vendredi 24 avril à 17h30\, un spectacle d’impro ouvert à tous (parents\, enfants et grands-parents) dévoilera leurs talents de comédiens ! \nTarif : de 50€ à 250€ la semaine (selon votre quotient familial) – Repas du midi compris\nInscriptions avant le mercredi 15 Avril\nInfos & inscriptions : 04 78 61 21 79 ou Formulaire d’inscriptions ci dessous
URL:https://kafeteomomes.fr/evenement/stage-des-vacances-de-printemps/
LOCATION:Ka’Fête ô Mômes\, 3 Montée des Esses\, Lyon\, 69004\, France
CATEGORIES:7 - 12 ans
ATTACH;FMTTYPE=image/jpeg:https://kafeteomomes.fr/uploads/2019/11/Stages-intergé-VS-4.jpg
GEO:45.7740305;4.8122498
X-APPLE-STRUCTURED-LOCATION;VALUE=URI;X-ADDRESS=Ka’Fête ô Mômes 3 Montée des Esses Lyon 69004 France;X-APPLE-RADIUS=500;X-TITLE=3 Montée des Esses:geo:4.8122498,45.7740305
END:VEVENT
BEGIN:VEVENT
DTSTART;TZID=Europe/Paris:20200424T143000
DTEND;TZID=Europe/Paris:20200424T160000
DTSTAMP:20260425T161100
CREATED:20191118T150710Z
LAST-MODIFIED:20191118T151137Z
UID:4168-1587738600-1587744000@kafeteomomes.fr
SUMMARY:Atelier cuisine\, les secrets d'Italie !
DESCRIPTION:Pizzas\, Fougasses et gressins…\nProposé par Maurizio\, le cuistot de la Ka’fête.\n \nCette fois ci\, Maurizio partagera avec les enfants tous les secrets de cuisine d’Italie\, son pays natal. Comment concocter de super bonnes pizzas\, de délicieuses fougasses et des gressins pour accompagner tout ça ? Venez et vous saurez tout !\n \nTarif : 12€/enfant\nInfos & réservation : 04 78 61 21 79 ou formulaire  ci dessous
URL:https://kafeteomomes.fr/evenement/cuisine-et-blagues-beignets-bugnes-et-rigolades-3/
LOCATION:Ka’Fête ô Mômes\, 3 Montée des Esses\, Lyon\, 69004\, France
CATEGORIES:7 - 12 ans
ATTACH;FMTTYPE=image/jpeg:https://kafeteomomes.fr/uploads/2017/07/Ma-cuisine-dans-tous-ses-etats.jpg
GEO:45.7740305;4.8122498
X-APPLE-STRUCTURED-LOCATION;VALUE=URI;X-ADDRESS=Ka’Fête ô Mômes 3 Montée des Esses Lyon 69004 France;X-APPLE-RADIUS=500;X-TITLE=3 Montée des Esses:geo:4.8122498,45.7740305
END:VEVENT
END:VCALENDAR