BEGIN:VCALENDAR
VERSION:2.0
PRODID:-//Ka&#039;Fête ô Mômes - ECPv5.9.0//NONSGML v1.0//EN
CALSCALE:GREGORIAN
METHOD:PUBLISH
X-WR-CALNAME:Ka&#039;Fête ô Mômes
X-ORIGINAL-URL:https://kafeteomomes.fr
X-WR-CALDESC:Évènements pour Ka&#039;Fête ô Mômes
BEGIN:VTIMEZONE
TZID:Europe/Paris
BEGIN:DAYLIGHT
TZOFFSETFROM:+0100
TZOFFSETTO:+0200
TZNAME:CEST
DTSTART:20200329T010000
END:DAYLIGHT
BEGIN:STANDARD
TZOFFSETFROM:+0200
TZOFFSETTO:+0100
TZNAME:CET
DTSTART:20201025T010000
END:STANDARD
END:VTIMEZONE
BEGIN:VEVENT
DTSTART;TZID=Europe/Paris:20200224T090000
DTEND;TZID=Europe/Paris:20200228T170000
DTSTAMP:20260425T175105
CREATED:20191114T095115Z
LAST-MODIFIED:20191114T095200Z
UID:4150-1582534800-1582909200@kafeteomomes.fr
SUMMARY:Stage des vacances d'hiver
DESCRIPTION:Réalisation d’un court métrage\n\nlundi 24 au vendredi 28 Février 2020 – 09h00 à 17h00\n7 à 12 ans – présence de séniors\nProposé par Angélique Bricod\, animatrice du projet intergénérationnel.\nUn nouveau partenaire culturel nous ouvrira ses portes pour réaliser le tournage d’un petit film dont l’histoire sera inspirée du lieu. Les enfants pourront imaginer le scénario et expérimenter durant cette semaine tous les rôles pour créer un film : acteur\, réalisateur\, caméraman\, scénariste\, etc. \nTarif : de 50€ à 250€ la semaine (selon votre quotient familial) – Repas du midi compris\nInscriptions avant le mercredi 19 Février\nInfos & inscriptions : 04 78 61 21 79 ou Formulaire d’inscriptions ci dessous
URL:https://kafeteomomes.fr/evenement/stage-des-vacances-dhiver/
LOCATION:Ka’Fête ô Mômes\, 3 Montée des Esses\, Lyon\, 69004\, France
CATEGORIES:7 - 12 ans
ATTACH;FMTTYPE=image/jpeg:https://kafeteomomes.fr/uploads/2019/11/Stages-intergé-VS-4.jpg
GEO:45.7740305;4.8122498
X-APPLE-STRUCTURED-LOCATION;VALUE=URI;X-ADDRESS=Ka’Fête ô Mômes 3 Montée des Esses Lyon 69004 France;X-APPLE-RADIUS=500;X-TITLE=3 Montée des Esses:geo:4.8122498,45.7740305
END:VEVENT
END:VCALENDAR