BEGIN:VCALENDAR
VERSION:2.0
PRODID:-//Ka&#039;Fête ô Mômes - ECPv5.9.0//NONSGML v1.0//EN
CALSCALE:GREGORIAN
METHOD:PUBLISH
X-WR-CALNAME:Ka&#039;Fête ô Mômes
X-ORIGINAL-URL:https://kafeteomomes.fr
X-WR-CALDESC:Évènements pour Ka&#039;Fête ô Mômes
BEGIN:VTIMEZONE
TZID:Europe/Paris
BEGIN:DAYLIGHT
TZOFFSETFROM:+0100
TZOFFSETTO:+0200
TZNAME:CEST
DTSTART:20190331T010000
END:DAYLIGHT
BEGIN:STANDARD
TZOFFSETFROM:+0200
TZOFFSETTO:+0100
TZNAME:CET
DTSTART:20191027T010000
END:STANDARD
END:VTIMEZONE
BEGIN:VEVENT
DTSTART;TZID=Europe/Paris:20191124T100000
DTEND;TZID=Europe/Paris:20191124T170000
DTSTAMP:20260425T231043
CREATED:20191112T164318Z
LAST-MODIFIED:20191112T164318Z
UID:4138-1574589600-1574614800@kafeteomomes.fr
SUMMARY:Vide-dressing & bourse aux jouets solidaires !
DESCRIPTION:Vide-dressing & bourse aux jouets à la Ka’fête ô mômes\nVous désirez vider vos placards\, armoires\, tiroirs ? Vous débarrassez de cette petite robe ou de ce sac à main que vous avez assez vus ? De cette layette devenue obsolète ? La chambre de vos enfants déborde de jouets délaissés ? Vous êtes partants pour donner ces vêtements & jouets ? \nEnvie de dénicher des articles femmes\, hommes ou enfants sympas et à prix (très) raisonnable ? Des jouets d’occasion pour un Noël plus écolo ? \nL’idée de financer un super séjour en intergénérationnel en juillet 2020 à la campagne vous botte ? \nAlors n’hésitez plus : participez au vide-dressing/bourse aux jouets solidaire de la Ka’fête !! Toutes les infos ci-dessous… \nVente de vêtements d’enfants\, vêtements femmes et hommes\, bijoux\, sacs\, chaussures\, accessoires\, vêtements de fêtes et d’hiver. Jeux\, jouets et livres de tous âges\, en bon état.\nDes gâteaux à grignoter & des boissons à siroter. \nDons le samedi 23 de 15h00 à 18h00. \nTous les bénéfices de cette journée serviront à financer le séjour intergénérationnel de juillet 2020.
URL:https://kafeteomomes.fr/evenement/vide-dressing-bourse-aux-jouets-solidaires/
LOCATION:Ka’Fête ô Mômes\, 3 Montée des Esses\, Lyon\, 69004\, France
CATEGORIES:7 - 12 ans,Evènements,Parents/Enfants,Tous public
ATTACH;FMTTYPE=image/jpeg:https://kafeteomomes.fr/uploads/2016/11/8ce82f43dd667ce6a473dc416cd3e690.jpg
GEO:45.7740305;4.8122498
X-APPLE-STRUCTURED-LOCATION;VALUE=URI;X-ADDRESS=Ka’Fête ô Mômes 3 Montée des Esses Lyon 69004 France;X-APPLE-RADIUS=500;X-TITLE=3 Montée des Esses:geo:4.8122498,45.7740305
END:VEVENT
END:VCALENDAR