BEGIN:VCALENDAR
VERSION:2.0
PRODID:-//Ka&#039;Fête ô Mômes - ECPv5.9.0//NONSGML v1.0//EN
CALSCALE:GREGORIAN
METHOD:PUBLISH
X-WR-CALNAME:Ka&#039;Fête ô Mômes
X-ORIGINAL-URL:https://kafeteomomes.fr
X-WR-CALDESC:Évènements pour Ka&#039;Fête ô Mômes
BEGIN:VTIMEZONE
TZID:Europe/Paris
BEGIN:DAYLIGHT
TZOFFSETFROM:+0100
TZOFFSETTO:+0200
TZNAME:CEST
DTSTART:20190331T010000
END:DAYLIGHT
BEGIN:STANDARD
TZOFFSETFROM:+0200
TZOFFSETTO:+0100
TZNAME:CET
DTSTART:20191027T010000
END:STANDARD
END:VTIMEZONE
BEGIN:VEVENT
DTSTART;TZID=Europe/Paris:20191122T100000
DTEND;TZID=Europe/Paris:20191122T110000
DTSTAMP:20260425T230211
CREATED:20190516T094143Z
LAST-MODIFIED:20190516T094143Z
UID:3744-1574416800-1574420400@kafeteomomes.fr
SUMMARY:Temps du conte avec l'association filactions
DESCRIPTION:La grotte à histoires\nProposé par Edith Lombardi\, conteuse\nA partir de 6 ans\n\n \nDans le cadre du festival « Brisons le silence »\, l’association Filactions vous propose de voir et d’écouter des contes et pour les petits et les grands-e-s. La conteuse Edith Lombardi les fera voyager avec des histoires non stéréotypées. \nGratuit – Sans réservation\n Infos : 04 78 61 21 79 ou contact
URL:https://kafeteomomes.fr/evenement/temps-du-conte-avec-lassociation-filactions/
LOCATION:Ka’Fête ô Mômes\, 3 Montée des Esses\, Lyon\, 69004\, France
CATEGORIES:7 - 12 ans
ATTACH;FMTTYPE=image/jpeg:https://kafeteomomes.fr/uploads/2017/05/La-grotte-à-Maurizio-7.jpg
GEO:45.7740305;4.8122498
X-APPLE-STRUCTURED-LOCATION;VALUE=URI;X-ADDRESS=Ka’Fête ô Mômes 3 Montée des Esses Lyon 69004 France;X-APPLE-RADIUS=500;X-TITLE=3 Montée des Esses:geo:4.8122498,45.7740305
END:VEVENT
END:VCALENDAR