BEGIN:VCALENDAR
VERSION:2.0
PRODID:-//Ka&#039;Fête ô Mômes - ECPv5.9.0//NONSGML v1.0//EN
CALSCALE:GREGORIAN
METHOD:PUBLISH
X-WR-CALNAME:Ka&#039;Fête ô Mômes
X-ORIGINAL-URL:https://kafeteomomes.fr
X-WR-CALDESC:Évènements pour Ka&#039;Fête ô Mômes
BEGIN:VTIMEZONE
TZID:Europe/Paris
BEGIN:DAYLIGHT
TZOFFSETFROM:+0100
TZOFFSETTO:+0200
TZNAME:CEST
DTSTART:20190331T010000
END:DAYLIGHT
BEGIN:STANDARD
TZOFFSETFROM:+0200
TZOFFSETTO:+0100
TZNAME:CET
DTSTART:20191027T010000
END:STANDARD
END:VTIMEZONE
BEGIN:VEVENT
DTSTART;TZID=Europe/Paris:20191031T143000
DTEND;TZID=Europe/Paris:20191031T160000
DTSTAMP:20260425T230140
CREATED:20190703T135619Z
LAST-MODIFIED:20191022T094342Z
UID:3797-1572532200-1572537600@kafeteomomes.fr
SUMMARY:Atelier Cuisine d'Halloween
DESCRIPTION:Contes qui font peur et cuisine\nProposé par Maurizio\, le cuistot de la Ka’fête.\n\nHalloween\, contes et cuisines. Débuté avec des petites comptines d’Halloween\, cet atelier sera un parcours entre cuisine et petites frousses…Mais finalement\, les enfants repartiront avec des petits monstres sucrés. \nTarif : 12€/enfant\nInfos & réservations : 04 78 61 21 79 ou formulaire d’inscription ci dessous
URL:https://kafeteomomes.fr/evenement/atelier-cuisine-dhalloween-4/
LOCATION:Ka’Fête ô Mômes\, 3 Montée des Esses\, Lyon\, 69004\, France
CATEGORIES:7 - 12 ans
ATTACH;FMTTYPE=image/jpeg:https://kafeteomomes.fr/uploads/2019/09/Complet-1.jpg
GEO:45.7740305;4.8122498
X-APPLE-STRUCTURED-LOCATION;VALUE=URI;X-ADDRESS=Ka’Fête ô Mômes 3 Montée des Esses Lyon 69004 France;X-APPLE-RADIUS=500;X-TITLE=3 Montée des Esses:geo:4.8122498,45.7740305
END:VEVENT
END:VCALENDAR