BEGIN:VCALENDAR
VERSION:2.0
PRODID:-//Ka&#039;Fête ô Mômes - ECPv5.9.0//NONSGML v1.0//EN
CALSCALE:GREGORIAN
METHOD:PUBLISH
X-WR-CALNAME:Ka&#039;Fête ô Mômes
X-ORIGINAL-URL:https://kafeteomomes.fr
X-WR-CALDESC:Évènements pour Ka&#039;Fête ô Mômes
BEGIN:VTIMEZONE
TZID:Europe/Paris
BEGIN:DAYLIGHT
TZOFFSETFROM:+0100
TZOFFSETTO:+0200
TZNAME:CEST
DTSTART:20190331T010000
END:DAYLIGHT
BEGIN:STANDARD
TZOFFSETFROM:+0200
TZOFFSETTO:+0100
TZNAME:CET
DTSTART:20191027T010000
END:STANDARD
END:VTIMEZONE
BEGIN:VEVENT
DTSTART;TZID=Europe/Paris:20191028T141500
DTEND;TZID=Europe/Paris:20191028T151500
DTSTAMP:20260425T230045
CREATED:20190703T151159Z
LAST-MODIFIED:20190712T081614Z
UID:3803-1572272100-1572275700@kafeteomomes.fr
SUMMARY:Peinture et patouille\, à la manière de...
DESCRIPTION:Découvrez un peintre ensemble\, et peindre ou dessiner à sa manière\n\nProposé par Claire Chodek\, Professeure passionnée d’art et d’enfants\nAtelier enfant\,de 5 à 12 ans.\nClaire fera Découvrir à vos enfants\, un peintre célèbre\, ou pas…Ils s’approprieront ses méthodes\, ses choix de couleurs\, ses thèmes…et tenteront de dessiner ou peindre à sa manière.\nVoila un atelier votre enfant va se retouver dans une posture de créateur !\n\n \n  \nTarif : 12€/enfant\nInfos et résas : 04 78 61 21 79 ou formulaire d’inscription ci dessous
URL:https://kafeteomomes.fr/evenement/penture-et-patouille-a-la-maniere-de/
LOCATION:Ka’Fête ô Mômes\, 3 Montée des Esses\, Lyon\, 69004\, France
CATEGORIES:7 - 12 ans
ATTACH;FMTTYPE=image/jpeg:https://kafeteomomes.fr/uploads/2019/07/A-la-manière-de....jpg
GEO:45.7740305;4.8122498
X-APPLE-STRUCTURED-LOCATION;VALUE=URI;X-ADDRESS=Ka’Fête ô Mômes 3 Montée des Esses Lyon 69004 France;X-APPLE-RADIUS=500;X-TITLE=3 Montée des Esses:geo:4.8122498,45.7740305
END:VEVENT
END:VCALENDAR