BEGIN:VCALENDAR
VERSION:2.0
PRODID:-//Ka&#039;Fête ô Mômes - ECPv5.9.0//NONSGML v1.0//EN
CALSCALE:GREGORIAN
METHOD:PUBLISH
X-WR-CALNAME:Ka&#039;Fête ô Mômes
X-ORIGINAL-URL:https://kafeteomomes.fr
X-WR-CALDESC:Évènements pour Ka&#039;Fête ô Mômes
BEGIN:VTIMEZONE
TZID:Europe/Paris
BEGIN:DAYLIGHT
TZOFFSETFROM:+0100
TZOFFSETTO:+0200
TZNAME:CEST
DTSTART:20190331T010000
END:DAYLIGHT
BEGIN:STANDARD
TZOFFSETFROM:+0200
TZOFFSETTO:+0100
TZNAME:CET
DTSTART:20191027T010000
END:STANDARD
END:VTIMEZONE
BEGIN:VEVENT
DTSTART;TZID=Europe/Paris:20191021T090000
DTEND;TZID=Europe/Paris:20191025T170000
DTSTAMP:20260426T002233
CREATED:20190905T085603Z
LAST-MODIFIED:20190905T085603Z
UID:3907-1571648400-1572022800@kafeteomomes.fr
SUMMARY:Stage des vacances de la Toussaint
DESCRIPTION:Réalisation d’un court métrage au Théâtre de la Croix rousse\n\nlundi 21 au vendredi 25 Octobre 2019 – 09h00 à 17h00\n7 à 12 ans – présence de séniors\nProposé par Angélique Bricod\, animatrice du projet intergénérationnel.\nLe théâtre de la Croix-Rousse nous ouvrira ses portes pour réaliser le tournage d’un petit film dont l’histoire sera inspirée du spectacle « Martien\, Martienne ». Les enfants pourront imaginer le scénario et expérimenter durant cette semaine tous les rôles pour créer un film : acteur\, réalisateur\, caméraman\, scénariste\, etc. \nTarif : de 50€ à 250€ la semaine (selon votre quotient familial) – Repas du midi compris\nInscriptions avant le mercredi 17 Octobre\nInfos & inscriptions : 04 78 61 21 79 ou contact
URL:https://kafeteomomes.fr/evenement/stage-des-vacances-de-la-toussaint/
LOCATION:Ka’Fête ô Mômes\, 3 Montée des Esses\, Lyon\, 69004\, France
CATEGORIES:7 - 12 ans
ATTACH;FMTTYPE=image/jpeg:https://kafeteomomes.fr/uploads/2016/12/4-e1490779900394.jpg
GEO:45.7740305;4.8122498
X-APPLE-STRUCTURED-LOCATION;VALUE=URI;X-ADDRESS=Ka’Fête ô Mômes 3 Montée des Esses Lyon 69004 France;X-APPLE-RADIUS=500;X-TITLE=3 Montée des Esses:geo:4.8122498,45.7740305
END:VEVENT
END:VCALENDAR