BEGIN:VCALENDAR
VERSION:2.0
PRODID:-//Ka&#039;Fête ô Mômes - ECPv5.9.0//NONSGML v1.0//EN
CALSCALE:GREGORIAN
METHOD:PUBLISH
X-WR-CALNAME:Ka&#039;Fête ô Mômes
X-ORIGINAL-URL:https://kafeteomomes.fr
X-WR-CALDESC:Évènements pour Ka&#039;Fête ô Mômes
BEGIN:VTIMEZONE
TZID:Europe/Paris
BEGIN:DAYLIGHT
TZOFFSETFROM:+0100
TZOFFSETTO:+0200
TZNAME:CEST
DTSTART:20190331T010000
END:DAYLIGHT
BEGIN:STANDARD
TZOFFSETFROM:+0200
TZOFFSETTO:+0100
TZNAME:CET
DTSTART:20191027T010000
END:STANDARD
END:VTIMEZONE
BEGIN:VEVENT
DTSTART;TZID=Europe/Paris:20191012T150000
DTEND;TZID=Europe/Paris:20191012T163000
DTSTAMP:20260426T003145
CREATED:20190924T134504Z
LAST-MODIFIED:20191008T145051Z
UID:3931-1570892400-1570897800@kafeteomomes.fr
SUMMARY:Atelier créatif "A l'ombre du cerisier"
DESCRIPTION:Atelier d’arts plastiques\n \nDans le cadre de l’exposition des originaux de son album A l’ombre du cerisier\, l’illustratrice Sophie Grangerat proposera un atelier aux enfants du café familial.\nAprès une lecture de l’album\, Sophie Grangerat invitera les enfants à mettre en scène un échange entre frères et sœurs ou entre amis dans un décor animal et/ou végétal teinté d’une des quatre saisons. Les enfants utiliseront les mêmes matériaux que dans l’album : le crayon de couleur\, le papier découpé et l’autocollant. Ils pourront ensuite présenter à tour de rôle leur mise en scène à leurs camarades. \nSophie Grangerat dédicacera ses albums à la librairie A Titre D’Aile à partir de 11H00.\nGratuit – sur réservation
URL:https://kafeteomomes.fr/evenement/atelier-creatif-a-lombre-du-cerisier/
LOCATION:Ka’Fête ô Mômes\, 3 Montée des Esses\, Lyon\, 69004\, France
CATEGORIES:7 - 12 ans,Evènements
ATTACH;FMTTYPE=image/jpeg:https://kafeteomomes.fr/uploads/2019/09/Ã-lombre-du-cerisier-28_01_2019-FT2-e1569332605420.jpg
GEO:45.7740305;4.8122498
X-APPLE-STRUCTURED-LOCATION;VALUE=URI;X-ADDRESS=Ka’Fête ô Mômes 3 Montée des Esses Lyon 69004 France;X-APPLE-RADIUS=500;X-TITLE=3 Montée des Esses:geo:4.8122498,45.7740305
END:VEVENT
END:VCALENDAR