BEGIN:VCALENDAR
VERSION:2.0
PRODID:-//Ka&#039;Fête ô Mômes - ECPv5.9.0//NONSGML v1.0//EN
CALSCALE:GREGORIAN
METHOD:PUBLISH
X-WR-CALNAME:Ka&#039;Fête ô Mômes
X-ORIGINAL-URL:https://kafeteomomes.fr
X-WR-CALDESC:Évènements pour Ka&#039;Fête ô Mômes
BEGIN:VTIMEZONE
TZID:Europe/Paris
BEGIN:DAYLIGHT
TZOFFSETFROM:+0100
TZOFFSETTO:+0200
TZNAME:CEST
DTSTART:20190331T010000
END:DAYLIGHT
BEGIN:STANDARD
TZOFFSETFROM:+0200
TZOFFSETTO:+0100
TZNAME:CET
DTSTART:20191027T010000
END:STANDARD
END:VTIMEZONE
BEGIN:VEVENT
DTSTART;VALUE=DATE:20190715
DTEND;VALUE=DATE:20190720
DTSTAMP:20260426T044120
CREATED:20181120T114541Z
LAST-MODIFIED:20190322T164033Z
UID:3297-1563148800-1563580799@kafeteomomes.fr
SUMMARY:Stage des vacances d'été"préparation et mise en scène d'un repas spectacle"
DESCRIPTION:Préparation et mise en scène d’un repas spectacle\n\nDu lundi 15 au vendredi 19 Juillet 2019 – 09h00 à 17h00\n7 à 12 ans – présence de séniors\nProposé par Angélique Bricod\, animatrice du projet intergénérationnel.\n \nBienvenue aux cuisiniers en herbe\, comédiens talentueux ou amoureux des spectacles de cabaret ! Cette semaine permettra d’expérimenter comment on marie la cuisine et le spectacle ! Choix du menu et des animations\, conception\, mise en scène et cuisine du repas-spectacle qui sera proposé le vendredi 19 juillet à 12h30 à la Ka’fête. \nTarif : de 50€ à 250€ la semaine (selon votre quotient familial) – Repas du midi compris\nInscriptions avant le mercredi 3 juillet\nInfos & inscriptions : 04 78 61 21 79 ou contact
URL:https://kafeteomomes.fr/evenement/stage-vacances-detepreparation-mise-scene-dun-repas-spectacle/
LOCATION:Ka’Fête ô Mômes\, 3 Montée des Esses\, Lyon\, 69004\, France
CATEGORIES:7 - 12 ans
ATTACH;FMTTYPE=image/jpeg:https://kafeteomomes.fr/uploads/2018/11/P1050681.jpg
GEO:45.7740305;4.8122498
X-APPLE-STRUCTURED-LOCATION;VALUE=URI;X-ADDRESS=Ka’Fête ô Mômes 3 Montée des Esses Lyon 69004 France;X-APPLE-RADIUS=500;X-TITLE=3 Montée des Esses:geo:4.8122498,45.7740305
END:VEVENT
BEGIN:VEVENT
DTSTART;TZID=Europe/Paris:20190717T143000
DTEND;TZID=Europe/Paris:20190717T160000
DTSTAMP:20260426T044120
CREATED:20190318T132556Z
LAST-MODIFIED:20190716T095719Z
UID:3630-1563373800-1563379200@kafeteomomes.fr
SUMMARY:Atelier cuisine "recettes magiques !!" (annulé)
DESCRIPTION:Les recettes magiques de Maurizio (annulé)\n\nProposé par Maurizio\, le cuistot de la Ka’fête.\n \nCette fois ci\, Maurizio présentera aux les enfants des recettes magiques !!. Comment faire une glace dans un sac plastique ? et autres recettes surprises !!\n \nTarif : 12€/enfant\nInfos & réservation : 04 78 61 21 79 ou formulaire ci dessous
URL:https://kafeteomomes.fr/evenement/atelier-cuisine-recettes-magiques-2/
LOCATION:Ka’Fête ô Mômes\, 3 Montée des Esses\, Lyon\, 69004\, France
CATEGORIES:7 - 12 ans
ATTACH;FMTTYPE=image/jpeg:https://kafeteomomes.fr/uploads/2019/03/recette-magique-glace.jpg
GEO:45.7740305;4.8122498
X-APPLE-STRUCTURED-LOCATION;VALUE=URI;X-ADDRESS=Ka’Fête ô Mômes 3 Montée des Esses Lyon 69004 France;X-APPLE-RADIUS=500;X-TITLE=3 Montée des Esses:geo:4.8122498,45.7740305
END:VEVENT
END:VCALENDAR