BEGIN:VCALENDAR
VERSION:2.0
PRODID:-//Ka&#039;Fête ô Mômes - ECPv5.9.0//NONSGML v1.0//EN
CALSCALE:GREGORIAN
METHOD:PUBLISH
X-WR-CALNAME:Ka&#039;Fête ô Mômes
X-ORIGINAL-URL:https://kafeteomomes.fr
X-WR-CALDESC:Évènements pour Ka&#039;Fête ô Mômes
BEGIN:VTIMEZONE
TZID:Europe/Paris
BEGIN:DAYLIGHT
TZOFFSETFROM:+0100
TZOFFSETTO:+0200
TZNAME:CEST
DTSTART:20190331T010000
END:DAYLIGHT
BEGIN:STANDARD
TZOFFSETFROM:+0200
TZOFFSETTO:+0100
TZNAME:CET
DTSTART:20191027T010000
END:STANDARD
END:VTIMEZONE
BEGIN:VEVENT
DTSTART;TZID=Europe/Paris:20190712T143000
DTEND;TZID=Europe/Paris:20190712T160000
DTSTAMP:20260426T044651
CREATED:20190318T133350Z
LAST-MODIFIED:20190710T120113Z
UID:3631-1562941800-1562947200@kafeteomomes.fr
SUMMARY:Atelier cuisine "Les desserts aux fruits d'été" (annulé)
DESCRIPTION:Desserts et fruits de saison (annulé)\n\nProposé par Maurizio\, le cuistot de la Ka’fête.\n \nCette fois ci\, Maurizio nous fera profiter de ses connaissances en desserts frais. A partir des fruis de saison\, nous allons créer des fraicheurs à la fois créatives et savoureuses…Préparez vos papilles !!\n \nTarif : 12€/enfant\nInfos & réservation : 04 78 61 21 79 ou page contact
URL:https://kafeteomomes.fr/evenement/atelier-cuisine-les-desserts-aux-fruits-dete/
LOCATION:Ka’Fête ô Mômes\, 3 Montée des Esses\, Lyon\, 69004\, France
CATEGORIES:7 - 12 ans
ATTACH;FMTTYPE=image/jpeg:https://kafeteomomes.fr/uploads/2018/04/desserts-aux-fruits-dété.jpg
GEO:45.7740305;4.8122498
X-APPLE-STRUCTURED-LOCATION;VALUE=URI;X-ADDRESS=Ka’Fête ô Mômes 3 Montée des Esses Lyon 69004 France;X-APPLE-RADIUS=500;X-TITLE=3 Montée des Esses:geo:4.8122498,45.7740305
END:VEVENT
END:VCALENDAR