BEGIN:VCALENDAR
VERSION:2.0
PRODID:-//Ka&#039;Fête ô Mômes - ECPv5.9.0//NONSGML v1.0//EN
CALSCALE:GREGORIAN
METHOD:PUBLISH
X-WR-CALNAME:Ka&#039;Fête ô Mômes
X-ORIGINAL-URL:https://kafeteomomes.fr
X-WR-CALDESC:Évènements pour Ka&#039;Fête ô Mômes
BEGIN:VTIMEZONE
TZID:Europe/Paris
BEGIN:DAYLIGHT
TZOFFSETFROM:+0100
TZOFFSETTO:+0200
TZNAME:CEST
DTSTART:20250330T010000
END:DAYLIGHT
BEGIN:STANDARD
TZOFFSETFROM:+0200
TZOFFSETTO:+0100
TZNAME:CET
DTSTART:20251026T010000
END:STANDARD
END:VTIMEZONE
BEGIN:VEVENT
DTSTART;TZID=Europe/Paris:20250628T103000
DTEND;TZID=Europe/Paris:20250628T111500
DTSTAMP:20260422T120957
CREATED:20240903T152512Z
LAST-MODIFIED:20250606T104154Z
UID:6909-1751106600-1751109300@kafeteomomes.fr
SUMMARY:Yoga en famille à la P'tite Ka'fête
DESCRIPTION:Yoga parent/enfant\, dès 4 ans\nA la P’tite Ka’fête\nProposé par Philippe Martin\, animateur yoga\nLe Yoga en famille c’est quoi ?\nC’est d’abord un moment privilégié entre un parent et un enfant\, une belle activité qui va renforcer le lien naturel existant. Avec une approche ludique\, vous allez ré apprendre à respirer et à éveiller votre corps. Pour cela\, Philippe vous propose de l’imaginaire\, des jeux\, des chants\, des postures d’animaux à faire en duo. \nPourquoi faire du Yoga avec son enfant ?\nPour aider son enfant à prendre conscience de son schéma corporel\, à mieux gérer ses émotions en trouvant son axe de relaxation.\nL’accompagner dans son développement personnel\, et l’aider à « grandir » \nUtilisons le souffle\, et ouvrons la voie à une belle circulation de l’énergie !\nOffrez-vous à tous les deux une pause dans votre quotidien et partagez confiance et sécurité. \n  \nSi vous en avez un\, pensez à apporter votre tapis de yoga ! \n1 adulte + 1 enfant\, dès 4 ans\nTarif  adhérent : 20€/duo (5€ par personne supplémentaire)\nTarif non-adhérent : 25€/duo (5€ par personne supplémentaire)\nTarif minimas sociaux : 12€/duo (3€ par personne supplémentaire)\nInfos : 04 78 61 21 79 ou CONTACT\nSESSION ANNULÉE
URL:https://kafeteomomes.fr/evenement/yoga-en-famille-2/2025-06-28/
LOCATION:La P’tite Ka’fête\, 3 montée des Esses\, Lyon\, 69004\, France
CATEGORIES:Parents/Enfants
END:VEVENT
BEGIN:VEVENT
DTSTART;TZID=Europe/Paris:20250628T143000
DTEND;TZID=Europe/Paris:20250628T170000
DTSTAMP:20260422T120957
CREATED:20250611T160620Z
LAST-MODIFIED:20250611T160620Z
UID:6987-1751121000-1751130000@kafeteomomes.fr
SUMMARY:Fête de la Nature à Lyon 1er – Un après-midi festif et créatif au jardin !
DESCRIPTION:Samedi 28 juin 2025 – de 14h30 à 17hJardins de l’EHPAD Saint François d’Assise – 18 rue Raymond\, Lyon 1er \nUn événement nature pour toute la famille\, en plein cœur de Lyon\nVenez fêter la nature en ville lors d’un événement gratuit\, ouvert à tous les âges ! Le samedi 28 juin\, de 14h30 à 17h\, les jardins de l’EHPAD Saint François d’Assise s’animent pour accueillir petits et grands autour d’activités créatives\, artistiques et botaniques. \nAu programme de cette Fête de la Nature : \n\n\nAteliers nature participatifs :médiation archéologique autour de la céramique\, fresque botanique géante à colorier\, fabrication d’oiseaux en pompon\, troc de plantes\, impression botanique avec des tampons… \n\n\nExposition en plein air :cyanotypes\, poèmes\, herbiers\, croquis botaniques… toutes les créations réalisées pendant l’année avec les enfants et les seniors. \n\n\nCoin goûter à l’ombre :boissons fraîches et douceurs à savourer sous les arbres. \n\n\nUne belle occasion de passer un moment convivial en famille ou entre voisins\, de se reconnecter à la nature et de découvrir des talents artistiques intergénérationnels. \nUn projet artistique et intergénérationnel en lien avec la nature en ville\nCet événement vient clôturer le projet « Explor’artistes 2 la Nature »\, mené tout au long de l’année par l’association Ka’fête ô mômes. Chaque mercredi\, un groupe d’enfants de 7 à 11 ans a rencontré des seniors du quartier pour explorer la nature en ville à travers l’art\, la culture et la science. \nVenez admirer le fruit de leur travail : une exposition touchante\, des œuvres collectives et des installations poétiques réalisées à l’EHPAD et ailleurs dans le quartier. \n\nInfos pratiques\n\n\nDate : Samedi 28 juin 2025 \n\n\nHoraires : de 14h30 à 17h \n\n\nLieu : Jardins de l’EHPAD Saint François d’Assise – 18 rue Raymond\, Lyon 1er \n\n\nEntrée libre\, gratuite et sans réservation \n\n\nPublic : tout public – enfants\, familles\, seniors\, curieux ! \n\n\n\nUn événement organisé en partenariat avec :\n\n\nKa’fête ô mômes \n\n\nEHPAD Saint François d’Assise – Habitat et Humanisme \n\n\nService Archéologique de la Ville de Lyon \n\n\nArchives Municipales de Lyon \n\nLa Bibliothèque Municipale de Lyon Part-Dieu\n\nLa Ferme de la Croix-Rousse \n\n\n\nVenez célébrer la nature à Lyon dans une ambiance joyeuse\, artistique et intergénérationnelle !
URL:https://kafeteomomes.fr/evenement/fete-de-la-nature-a-lyon-1er-un-apres-midi-festif-et-creatif-au-jardin/
LOCATION:Jardins de l’EHPAD St François d’Assise\, 18 rue Raymond\, Lyon\, 69007\, France
CATEGORIES:Tous public
ATTACH;FMTTYPE=image/jpeg:https://kafeteomomes.fr/uploads/2025/06/fete-nature-lyon2025.jpg
GEO:45.7730647;4.8300194
X-APPLE-STRUCTURED-LOCATION;VALUE=URI;X-ADDRESS=Jardins de l’EHPAD St François d’Assise 18 rue Raymond Lyon 69007 France;X-APPLE-RADIUS=500;X-TITLE=18 rue Raymond:geo:4.8300194,45.7730647
END:VEVENT
END:VCALENDAR