BEGIN:VCALENDAR
VERSION:2.0
PRODID:-//Ka&#039;Fête ô Mômes - ECPv5.9.0//NONSGML v1.0//EN
CALSCALE:GREGORIAN
METHOD:PUBLISH
X-WR-CALNAME:Ka&#039;Fête ô Mômes
X-ORIGINAL-URL:https://kafeteomomes.fr
X-WR-CALDESC:Évènements pour Ka&#039;Fête ô Mômes
BEGIN:VTIMEZONE
TZID:Europe/Paris
BEGIN:DAYLIGHT
TZOFFSETFROM:+0100
TZOFFSETTO:+0200
TZNAME:CEST
DTSTART:20220327T010000
END:DAYLIGHT
BEGIN:STANDARD
TZOFFSETFROM:+0200
TZOFFSETTO:+0100
TZNAME:CET
DTSTART:20221030T010000
END:STANDARD
END:VTIMEZONE
BEGIN:VEVENT
DTSTART;TZID=Europe/Paris:20220416T160000
DTEND;TZID=Europe/Paris:20220416T165000
DTSTAMP:20260421T182936
CREATED:20220404T150716Z
LAST-MODIFIED:20220404T151549Z
UID:5460-1650124800-1650127800@kafeteomomes.fr
SUMMARY:Théâtre en famille : Ziguilé
DESCRIPTION:Une sortie familiale au Théâtre de la Croix-Rousse\nA partir de  4 ans\nLa Ka’fête ô mômes\, en partenariat avec le Théâtre de la Croix-Rousse\, propose à ses adhérents\, des sorties au théâtre à un tarif attractif. En avril\, venez découvrir Ziguilé\, (embêter\, chatouiller\, taquiner en créole) spectacle d’acrobaties ludique\, énergique et drôle !\nPour en savoir plus sur le spectacle\, consultez le site internet du Théâtre de la Croix-Rousse  \nTarif adhérents : 9€ / enfant – 12€ / adulte\nAttention : votre adhésion à l’association doit être à jour .\nInfos : 04 78 61 21 79 ou CONTACT\nJe clique ICI pour réserver ma place !
URL:https://kafeteomomes.fr/evenement/theatre-en-famille-ziguile/
LOCATION:Théâtre de la Croix-Rousse\, Place Joannès Ambre\, Lyon\, 69004\, France
CATEGORIES:7 - 12 ans,Parents/Enfants,Sorties familiales
ATTACH;FMTTYPE=image/jpeg:https://kafeteomomes.fr/uploads/2022/04/TET-Ziguile-1110x500-c-default-e1649084516570.jpeg
GEO:45.7810931;4.833143
X-APPLE-STRUCTURED-LOCATION;VALUE=URI;X-ADDRESS=Théâtre de la Croix-Rousse Place Joannès Ambre Lyon 69004 France;X-APPLE-RADIUS=500;X-TITLE=Place Joannès Ambre:geo:4.833143,45.7810931
END:VEVENT
END:VCALENDAR