BEGIN:VCALENDAR
VERSION:2.0
PRODID:-//Ka&#039;Fête ô Mômes - ECPv5.9.0//NONSGML v1.0//EN
CALSCALE:GREGORIAN
METHOD:PUBLISH
X-WR-CALNAME:Ka&#039;Fête ô Mômes
X-ORIGINAL-URL:https://kafeteomomes.fr
X-WR-CALDESC:Évènements pour Ka&#039;Fête ô Mômes
BEGIN:VTIMEZONE
TZID:Europe/Paris
BEGIN:DAYLIGHT
TZOFFSETFROM:+0100
TZOFFSETTO:+0200
TZNAME:CEST
DTSTART:20220327T010000
END:DAYLIGHT
BEGIN:STANDARD
TZOFFSETFROM:+0200
TZOFFSETTO:+0100
TZNAME:CET
DTSTART:20221030T010000
END:STANDARD
END:VTIMEZONE
BEGIN:VEVENT
DTSTART;TZID=Europe/Paris:20220611T103000
DTEND;TZID=Europe/Paris:20220611T163000
DTSTAMP:20260421T230042
CREATED:20220530T152516Z
LAST-MODIFIED:20220530T152516Z
UID:5591-1654943400-1654965000@kafeteomomes.fr
SUMMARY:Théâtre en famille : Une épopée
DESCRIPTION:Une sortie familiale au Théâtre de la Croix-Rousse\nA partir de  8 ans\nLa Ka’fête ô mômes\, en partenariat avec le Théâtre de la Croix-Rousse\, propose à ses adhérents\, des sorties au théâtre à un tarif attractif. En juin\, venez découvrir Une épopée\, une fable imaginée par Johanny Bert\, qui embarque parents et enfants dans un spectacle- aventure d’une journée entière (avec entractes) !\nPour en savoir plus sur le spectacle\, consultez le site internet du Théâtre de la Croix-Rousse  \nTarif adhérents : 9€ / enfant – 12€ / adulte\nAttention : votre adhésion à l’association doit être à jour .\nInfos : 04 78 61 21 79 ou CONTACT\nJe clique ICI pour réserver ma place !
URL:https://kafeteomomes.fr/evenement/theatre-en-famille-une-epopee/
LOCATION:Théâtre de la Croix-Rousse\, Place Joannès Ambre\, Lyon\, 69004\, France
CATEGORIES:7 - 12 ans,Evènements,Sorties familiales
ATTACH;FMTTYPE=image/jpeg:https://kafeteomomes.fr/uploads/2022/05/Uneepopee-TET-1110x500-c-default-e1653924055108.jpg
GEO:45.7810931;4.833143
X-APPLE-STRUCTURED-LOCATION;VALUE=URI;X-ADDRESS=Théâtre de la Croix-Rousse Place Joannès Ambre Lyon 69004 France;X-APPLE-RADIUS=500;X-TITLE=Place Joannès Ambre:geo:4.833143,45.7810931
END:VEVENT
END:VCALENDAR