BEGIN:VCALENDAR
VERSION:2.0
PRODID:-//Ka&#039;Fête ô Mômes - ECPv5.9.0//NONSGML v1.0//EN
CALSCALE:GREGORIAN
METHOD:PUBLISH
X-WR-CALNAME:Ka&#039;Fête ô Mômes
X-ORIGINAL-URL:https://kafeteomomes.fr
X-WR-CALDESC:Évènements pour Ka&#039;Fête ô Mômes
BEGIN:VTIMEZONE
TZID:Europe/Paris
BEGIN:DAYLIGHT
TZOFFSETFROM:+0100
TZOFFSETTO:+0200
TZNAME:CEST
DTSTART:20220327T010000
END:DAYLIGHT
BEGIN:STANDARD
TZOFFSETFROM:+0200
TZOFFSETTO:+0100
TZNAME:CET
DTSTART:20221030T010000
END:STANDARD
END:VTIMEZONE
BEGIN:VEVENT
DTSTART;TZID=Europe/Paris:20220514T180000
DTEND;TZID=Europe/Paris:20220514T191500
DTSTAMP:20260424T044904
CREATED:20220426T141847Z
LAST-MODIFIED:20220512T151311Z
UID:5521-1652551200-1652555700@kafeteomomes.fr
SUMMARY:Théâtre en famille : Normalito
DESCRIPTION:Une sortie familiale au Théâtre Nouvelle Génération\nA partir de 10 ans\nLa Ka’fête ô mômes\, en partenariat avec le Théâtre Nouvelle Génération\, propose à ses adhérents\, des sorties au théâtre à un tarif attractif. En mai\, venez découvrir Normalito\, fable étonnante sur la normalité et la différence !\nPour en savoir plus sur le spectacle\, consultez le site internet du Théâtre Nouvelle Génération \nAttention ! Ce spectacle se joue dans la salle des Ateliers – Presqu’île\, 5 rue du Petit David\, Lyon 2. \nTarif adhérents : 7€ / enfant – 10€ / adulte\nAttention : votre adhésion à l’association doit être à jour .\nInfos : 04 78 61 21 79 ou CONTACT\nCOMPLET !
URL:https://kafeteomomes.fr/evenement/theatre-en-famille-normalito/
LOCATION:TNG – Les Ateliers Presqu’île\, 5 rue du Petit David\, Lyon\, 69002
CATEGORIES:Sorties familiales
GEO:45.7620298;4.8325317
X-APPLE-STRUCTURED-LOCATION;VALUE=URI;X-ADDRESS=TNG – Les Ateliers Presqu’île 5 rue du Petit David Lyon 69002;X-APPLE-RADIUS=500;X-TITLE=5 rue du Petit David:geo:4.8325317,45.7620298
END:VEVENT
END:VCALENDAR