BEGIN:VCALENDAR
VERSION:2.0
PRODID:-//Ka&#039;Fête ô Mômes - ECPv5.9.0//NONSGML v1.0//EN
CALSCALE:GREGORIAN
METHOD:PUBLISH
X-WR-CALNAME:Ka&#039;Fête ô Mômes
X-ORIGINAL-URL:https://kafeteomomes.fr
X-WR-CALDESC:Évènements pour Ka&#039;Fête ô Mômes
BEGIN:VTIMEZONE
TZID:Europe/Paris
BEGIN:DAYLIGHT
TZOFFSETFROM:+0100
TZOFFSETTO:+0200
TZNAME:CEST
DTSTART:20240331T010000
END:DAYLIGHT
BEGIN:STANDARD
TZOFFSETFROM:+0200
TZOFFSETTO:+0100
TZNAME:CET
DTSTART:20241027T010000
END:STANDARD
END:VTIMEZONE
BEGIN:VEVENT
DTSTART;TZID=Europe/Paris:20241012T103000
DTEND;TZID=Europe/Paris:20241012T120000
DTSTAMP:20260421T104738
CREATED:20240918T134307Z
LAST-MODIFIED:20241011T074546Z
UID:6645-1728729000-1728734400@kafeteomomes.fr
SUMMARY:Street-art avec les Toki / ANNULE !
DESCRIPTION:Le petit laboratoire de gélules / Atelier annulé !\nProposé par les Toki\, street-artistes lyonnais\n \nLes Toki débarquent à la P’tite Ka’fête !  Vous avez forcément croisé leurs bonshommes gélules sur les murs des Pentes et d’ailleurs. Le duo (Kiki & Toto) propose un atelier collage et création de sa propre gélule à partir d’éléments de tous leurs personnages. Un atelier ludique pour petits et grands enfants\, abordant différentes techniques : découpage\, collage\, assemblage\, coloriage\, dessin… \nEn savoir plus sur les Toki…\n« Nous sommes un duo d’artistes lyonnais\, créateurs d’un concept de gélule\, des petits personnages souriant avec un seul œil au milieu de la tête\, pas de bras ni de jambes. Nous réinterprétons nos personnages préférés de la pop culture\, autour d’un design simple\, reconnaissable et fort graphiquement. L’essence même de notre démarche est de travailler le côté ludique de l’art à travers la création de personnages aux couleurs vives. » \nRetrouvez-les sur Instagram & Facebook \nA NOTER : les Toki animeront un mini stage de 2 jours pendant les prochaines vacances d’hiver ! Intéressé(e) ? Envoie un mail à accueil@kafeteomomes.fr \nA partir de 6 ans jusqu’à 100 ans !\nTarif  adhérent : 20€/personne\nTarif non-adhérent : 25€/personne\nTarif minimas sociaux : 12€/personne\nATTENTION : ATELIER ANNULE !
URL:https://kafeteomomes.fr/evenement/street-art-avec-les-toki-2/
LOCATION:La P’tite Ka’fête\, 3 montée des Esses\, Lyon\, 69004\, France
CATEGORIES:7 - 12 ans
ATTACH;FMTTYPE=image/jpeg:https://kafeteomomes.fr/uploads/2024/09/20240418_170229-e1726666277278.jpg
END:VEVENT
END:VCALENDAR