BEGIN:VCALENDAR
VERSION:2.0
PRODID:-//Ka&#039;Fête ô Mômes - ECPv5.9.0//NONSGML v1.0//EN
CALSCALE:GREGORIAN
METHOD:PUBLISH
X-WR-CALNAME:Ka&#039;Fête ô Mômes
X-ORIGINAL-URL:https://kafeteomomes.fr
X-WR-CALDESC:Évènements pour Ka&#039;Fête ô Mômes
BEGIN:VTIMEZONE
TZID:Europe/Paris
BEGIN:DAYLIGHT
TZOFFSETFROM:+0100
TZOFFSETTO:+0200
TZNAME:CEST
DTSTART:20220327T010000
END:DAYLIGHT
BEGIN:STANDARD
TZOFFSETFROM:+0200
TZOFFSETTO:+0100
TZNAME:CET
DTSTART:20221030T010000
END:STANDARD
END:VTIMEZONE
BEGIN:VEVENT
DTSTART;TZID=Europe/Paris:20220425T090000
DTEND;TZID=Europe/Paris:20220429T170000
DTSTAMP:20260421T143157
CREATED:20220322T141716Z
LAST-MODIFIED:20220322T141716Z
UID:5405-1650877200-1651251600@kafeteomomes.fr
SUMMARY:Stage des vacances : théâtre d'improvisation
DESCRIPTION:Théâtre d’improvisation\n\nlundi 25 au vendredi 29 avril – de 09H00 à 17H00\n7 à 12 ans\n\nProposé par Isabelle Zitouni\, animatrice & professeure de théâtre\nVos enfants ont envie de découvrir le théâtre\, jouer la comédie\, passer un moment de découverte et de convivialité pendant les vacances d’hiver ? Isabelle leur propose d’explorer les bases du théâtre\, avec un accompagnement professionnel et bienveillant.  Jeux collectifs\, improvisations et exercices sur scène permettront à votre enfant d’expérimenter une expression gestuelle et verbale de leur imagination. \n  \nTarif : de 50€ à 250€ la semaine (selon votre quotient familial) – Repas du midi compris\nInscriptions via ce formulaire au plus tard le mercredi 13 avril\nInfos : CONTACT ou 04 78 61 21 79
URL:https://kafeteomomes.fr/evenement/stage-des-vacances-theatre-dimprovisation/
LOCATION:Ecole des Entrepôts\, 2 rue des Entrepôts\, Lyon\, 69004
CATEGORIES:7 - 12 ans
ATTACH;FMTTYPE=image/jpeg:https://kafeteomomes.fr/uploads/2022/01/Visuel-Isabelle-e1642162837748.jpeg
GEO:45.775661;4.8115947
X-APPLE-STRUCTURED-LOCATION;VALUE=URI;X-ADDRESS=Ecole des Entrepôts 2 rue des Entrepôts Lyon 69004;X-APPLE-RADIUS=500;X-TITLE=2 rue des Entrepôts:geo:4.8115947,45.775661
END:VEVENT
END:VCALENDAR