BEGIN:VCALENDAR
VERSION:2.0
PRODID:-//Ka&#039;Fête ô Mômes - ECPv5.9.0//NONSGML v1.0//EN
CALSCALE:GREGORIAN
METHOD:PUBLISH
X-WR-CALNAME:Ka&#039;Fête ô Mômes
X-ORIGINAL-URL:https://kafeteomomes.fr
X-WR-CALDESC:Évènements pour Ka&#039;Fête ô Mômes
BEGIN:VTIMEZONE
TZID:Europe/Paris
BEGIN:DAYLIGHT
TZOFFSETFROM:+0100
TZOFFSETTO:+0200
TZNAME:CEST
DTSTART:20220327T010000
END:DAYLIGHT
BEGIN:STANDARD
TZOFFSETFROM:+0200
TZOFFSETTO:+0100
TZNAME:CET
DTSTART:20221030T010000
END:STANDARD
END:VTIMEZONE
BEGIN:VEVENT
DTSTART;TZID=Europe/Paris:20220425T090000
DTEND;TZID=Europe/Paris:20220429T170000
DTSTAMP:20260421T104223
CREATED:20220322T145947Z
LAST-MODIFIED:20220419T135113Z
UID:5408-1650877200-1651251600@kafeteomomes.fr
SUMMARY:Stage des vacances : graines de scientifiques ! / ANNULE !
DESCRIPTION:Les petits scientifiques\n7 à 12 ans\n\nProposé par Amélie Bourasseau\, animatrice à la Ka’fête ô mômes & ludothécaire\nVotre enfant aime jouer au scientifique en faisant des expériences ? Cette semaine est faite pour lui ! Amélie propose de créer un laboratoire éphémère ludique\, sans danger et surtout explosif\, gluant\, voire un peu salissant ! Au programme : création de slime\, fluide non newtonien\, magnétisme\, illusions d’optique\, chimie et plein d’autres manipulations à venir. Les méninges ne seront pas les seules à s’agiter ! \nTarif : de 50€ à 250€ la semaine (selon votre quotient familial) – Repas du midi compris\nInscriptions via ce formulaire au plus tard le mercredi 13 avril\nInfos : CONTACT ou 04 78 61 21 79
URL:https://kafeteomomes.fr/evenement/stage-des-vacances-jeu-de-roles/
LOCATION:Ecole des Entrepôts\, 2 rue des Entrepôts\, Lyon\, 69004
CATEGORIES:7 - 12 ans
ATTACH;FMTTYPE=image/jpeg:https://kafeteomomes.fr/uploads/2022/03/Visuel-Amélie-scientifique-1-e1648803812608.jpg
GEO:45.775661;4.8115947
X-APPLE-STRUCTURED-LOCATION;VALUE=URI;X-ADDRESS=Ecole des Entrepôts 2 rue des Entrepôts Lyon 69004;X-APPLE-RADIUS=500;X-TITLE=2 rue des Entrepôts:geo:4.8115947,45.775661
END:VEVENT
END:VCALENDAR