BEGIN:VCALENDAR
VERSION:2.0
PRODID:-//Ka&#039;Fête ô Mômes - ECPv5.9.0//NONSGML v1.0//EN
CALSCALE:GREGORIAN
METHOD:PUBLISH
X-WR-CALNAME:Ka&#039;Fête ô Mômes
X-ORIGINAL-URL:https://kafeteomomes.fr
X-WR-CALDESC:Évènements pour Ka&#039;Fête ô Mômes
BEGIN:VTIMEZONE
TZID:Europe/Paris
BEGIN:DAYLIGHT
TZOFFSETFROM:+0100
TZOFFSETTO:+0200
TZNAME:CEST
DTSTART:20220327T010000
END:DAYLIGHT
BEGIN:STANDARD
TZOFFSETFROM:+0200
TZOFFSETTO:+0100
TZNAME:CET
DTSTART:20221030T010000
END:STANDARD
END:VTIMEZONE
BEGIN:VEVENT
DTSTART;TZID=Europe/Paris:20220214T090000
DTEND;TZID=Europe/Paris:20220218T170000
DTSTAMP:20260421T210359
CREATED:20220114T113804Z
LAST-MODIFIED:20220119T182622Z
UID:5301-1644829200-1645203600@kafeteomomes.fr
SUMMARY:Stage des vacances d'hiver : conte musical
DESCRIPTION:Création d’un conte musical\n\nlundi 14 au vendredi 18 février – de 09H00 à 17H00\n7  à 12 ans – présence de seniors\n\nProposé par Angélique Bricod\, animatrice du projet intergénérationnel.\nTrois étudiants de l’École Supérieure de Musique de Dijon nous accompagneront pour créer un spectacle musical issu du conte fédérateur du projet intergénérationnel de la Ka’fête. Les enfants pourront réécrire l’histoire\, devenir des musicien.e.s\, metteur.euse.s en scène ou encore costumier.ère.s. \nTarif : de 50€ à 250€ la semaine (selon votre quotient familial) – Repas du midi compris\nInscriptions via ce formulaire au plus tard le mercredi 9 février\nInfos : CONTACT ou 04 78 61 21 79
URL:https://kafeteomomes.fr/evenement/stage-des-vacances-dhiver-conte-musical/
LOCATION:Ka’Fête ô Mômes\, 3 Montée des Esses\, Lyon\, 69004\, France
CATEGORIES:7 - 12 ans
ATTACH;FMTTYPE=image/png:https://kafeteomomes.fr/uploads/2022/01/62d2f233.png
GEO:45.7740305;4.8122498
X-APPLE-STRUCTURED-LOCATION;VALUE=URI;X-ADDRESS=Ka’Fête ô Mômes 3 Montée des Esses Lyon 69004 France;X-APPLE-RADIUS=500;X-TITLE=3 Montée des Esses:geo:4.8122498,45.7740305
END:VEVENT
END:VCALENDAR