BEGIN:VCALENDAR
VERSION:2.0
PRODID:-//Ka&#039;Fête ô Mômes - ECPv5.9.0//NONSGML v1.0//EN
CALSCALE:GREGORIAN
METHOD:PUBLISH
X-WR-CALNAME:Ka&#039;Fête ô Mômes
X-ORIGINAL-URL:https://kafeteomomes.fr
X-WR-CALDESC:Évènements pour Ka&#039;Fête ô Mômes
BEGIN:VTIMEZONE
TZID:Europe/Paris
BEGIN:DAYLIGHT
TZOFFSETFROM:+0100
TZOFFSETTO:+0200
TZNAME:CEST
DTSTART:20220327T010000
END:DAYLIGHT
BEGIN:STANDARD
TZOFFSETFROM:+0200
TZOFFSETTO:+0100
TZNAME:CET
DTSTART:20221030T010000
END:STANDARD
END:VTIMEZONE
BEGIN:VEVENT
DTSTART;TZID=Europe/Paris:20220419T090000
DTEND;TZID=Europe/Paris:20220422T170000
DTSTAMP:20260421T182834
CREATED:20220322T140445Z
LAST-MODIFIED:20220322T150103Z
UID:5404-1650358800-1650646800@kafeteomomes.fr
SUMMARY:Stage des vacances : escape-game
DESCRIPTION:Création d’un escape-game\n\nmardi 19 au vendredi 22 avril – de 09H00 à 17H00\n7  à 12 ans – présence de seniors\n\nProposé par Angélique Bricod\, animatrice du projet intergénérationnel.\nEn partenariat avec les Archives municipales de Lyon\, les enfants découvriront l’histoire de notre ville à travers une visite spéciale des Archives et plusieurs jeux. Ils imagineront et créeront un escape-game pour s’immerger de manière ludique dans notre patrimoine. Les enfants pourront expérimenter toutes les phases de création : techniques de fabrication de règles\, élaboration d’énigmes\, fabrication du livret ou encore test du jeu. \nTarif : de 50€ à 250€ la semaine (selon votre quotient familial) – Repas du midi compris\nInscriptions via ce formulaire au plus tard le mercredi 13 avril\nInfos : CONTACT ou 04 78 61 21 79
URL:https://kafeteomomes.fr/evenement/stage-des-vacances-de-printemps-escape-game/
LOCATION:Ka’Fête ô Mômes\, 3 Montée des Esses\, Lyon\, 69004\, France
CATEGORIES:7 - 12 ans
ATTACH;FMTTYPE=image/jpeg:https://kafeteomomes.fr/uploads/2020/02/Canuts-Collecteurs-9.jpg
GEO:45.7740305;4.8122498
X-APPLE-STRUCTURED-LOCATION;VALUE=URI;X-ADDRESS=Ka’Fête ô Mômes 3 Montée des Esses Lyon 69004 France;X-APPLE-RADIUS=500;X-TITLE=3 Montée des Esses:geo:4.8122498,45.7740305
END:VEVENT
END:VCALENDAR