BEGIN:VCALENDAR
VERSION:2.0
PRODID:-//Ka&#039;Fête ô Mômes - ECPv5.9.0//NONSGML v1.0//EN
CALSCALE:GREGORIAN
METHOD:PUBLISH
X-WR-CALNAME:Ka&#039;Fête ô Mômes
X-ORIGINAL-URL:https://kafeteomomes.fr
X-WR-CALDESC:Évènements pour Ka&#039;Fête ô Mômes
BEGIN:VTIMEZONE
TZID:Europe/Paris
BEGIN:DAYLIGHT
TZOFFSETFROM:+0100
TZOFFSETTO:+0200
TZNAME:CEST
DTSTART:20210328T010000
END:DAYLIGHT
BEGIN:STANDARD
TZOFFSETFROM:+0200
TZOFFSETTO:+0100
TZNAME:CET
DTSTART:20211031T010000
END:STANDARD
END:VTIMEZONE
BEGIN:VEVENT
DTSTART;TZID=Europe/Paris:20211217T184500
DTEND;TZID=Europe/Paris:20211217T210000
DTSTAMP:20260424T212658
CREATED:20211115T145138Z
LAST-MODIFIED:20230324T153949Z
UID:5161-1639766700-1639774800@kafeteomomes.fr
SUMMARY:Soirée "Ciné diner" en famille
DESCRIPTION:Soirée Ciné – Dîner des petits !\nA partir de 2 ans\n\n \nAprès de longs mois d’arrêt\, c’est le retour des soirées ciné-dîner pour les petits ! Une vraie découverte du cinéma\, pour initier les petits aux joies du grand écran\, tout en douceur\, grâce à une sélection pointue de petits films d’animations\, faite en partenariat avec Ciné-Mioches. \nProgramme : un dessin animé de la Petite Taupe et autres trésors de l’animation !\nProjection : à 19h15 précises\nAu menu (repas à 20h) : soupe\, cake\, pizza\, cookies… Au gré des envies de notre chef Maurizio ! \nProjection gratuite – repas sur réservation uniquement\nTarif : 8€ / enfant – 10€ / adulte\nInfos : 04 78 61 21 79 \nEn partenariat avec l’association Ciné – Mioches\nJe clique ICI pour m’inscrire à cette soirée !
URL:https://kafeteomomes.fr/evenement/soiree-cine-diner-en-famille-6/2021-12-17/
LOCATION:Ka’Fête ô Mômes\, 3 Montée des Esses\, Lyon\, 69004\, France
CATEGORIES:Parents/Enfants,Soirées familiales
ATTACH;FMTTYPE=image/jpeg:https://kafeteomomes.fr/uploads/2018/01/0b0f844ccc1fffb1433b016f0b5f9726.jpg
GEO:45.7740305;4.8122498
X-APPLE-STRUCTURED-LOCATION;VALUE=URI;X-ADDRESS=Ka’Fête ô Mômes 3 Montée des Esses Lyon 69004 France;X-APPLE-RADIUS=500;X-TITLE=3 Montée des Esses:geo:4.8122498,45.7740305
END:VEVENT
END:VCALENDAR