BEGIN:VCALENDAR
VERSION:2.0
PRODID:-//Ka&#039;Fête ô Mômes - ECPv5.9.0//NONSGML v1.0//EN
CALSCALE:GREGORIAN
METHOD:PUBLISH
X-WR-CALNAME:Ka&#039;Fête ô Mômes
X-ORIGINAL-URL:https://kafeteomomes.fr
X-WR-CALDESC:Évènements pour Ka&#039;Fête ô Mômes
BEGIN:VTIMEZONE
TZID:Europe/Paris
BEGIN:DAYLIGHT
TZOFFSETFROM:+0100
TZOFFSETTO:+0200
TZNAME:CEST
DTSTART:20220327T010000
END:DAYLIGHT
BEGIN:STANDARD
TZOFFSETFROM:+0200
TZOFFSETTO:+0100
TZNAME:CET
DTSTART:20221030T010000
END:STANDARD
END:VTIMEZONE
BEGIN:VEVENT
DTSTART;TZID=Europe/Paris:20220416T110000
DTEND;TZID=Europe/Paris:20220416T120000
DTSTAMP:20260421T210558
CREATED:20220401T155136Z
LAST-MODIFIED:20240408T101216Z
UID:5456-1650106800-1650110400@kafeteomomes.fr
SUMMARY:Signer avec son enfant
DESCRIPTION:La langue des signes pour échanger avec son enfant\nProposé par Mélissa Cersault\, éducatrice spécialisée\n\nLes signes enseignés dans cet atelier sont issus de la Langue des Signes Française (LSF) et permettent d’évoquer le quotidien\, les émotions\, les besoins de chacun. Cet atelier est un partage\, et s’appuie sur divers supports ludiques : images\, peluches\, jeux… \nCet atelier a pour but de faire découvrir quelques signes issus de la langue des signes aux enfants. Cet apprentissage va se faire dans l’interaction\, permettant aux petits et grands de s’amuser et de s’ouvrir à ce monde visuel. \nEn savoir plus sur Mélissa…\nEducatrice de jeunes enfants de formation initiale\, Mélissa a d’abord travaillé avec des tout petits en crèche. Devenue éducatrice spécialisée\, elle a exercé auprès d’enfants autistes\, ayant des difficultés d’accès à la communication orale. Elle s’est alors intéressée puis passionnée pour la langue des signes\, qui offre la possibilité de communiquer autrement.\nSuite à une formation\, elle est désormais bilingue en langue des signes. Depuis\, non contente de pouvoir l’utiliser au quotidien avec des personnes sourdes\, elle l’utilise pour accompagner les plus petits à se faire comprendre plus tôt et les plus grands à s’ouvrir à cette langue et sa culture. \n  \n1 adulte + 1 enfant – 3 à 6 ans\nTarif : 15€/duo (5€ par personne supplémentaire)\n9€/duo pour les titulaires des minimas sociaux (RSA\, ASS\, AAH\, ASPA…)\nTitulaire d’un « compte famille Ka’fête » : nous contacter pour réserver\nInfos : 04 78 61 21 79 ou CONTACT\nL’atelier du mercredi 14 décembre est annulé !
URL:https://kafeteomomes.fr/evenement/signer-avec-son-enfant/2022-04-16/
LOCATION:Ka’Fête ô Mômes\, 3 Montée des Esses\, Lyon\, 69004\, France
CATEGORIES:Parents/Enfants
ATTACH;FMTTYPE=image/jpeg:https://kafeteomomes.fr/uploads/2022/04/title-1587455703-e1648827679563.jpg
GEO:45.7740305;4.8122498
X-APPLE-STRUCTURED-LOCATION;VALUE=URI;X-ADDRESS=Ka’Fête ô Mômes 3 Montée des Esses Lyon 69004 France;X-APPLE-RADIUS=500;X-TITLE=3 Montée des Esses:geo:4.8122498,45.7740305
END:VEVENT
END:VCALENDAR