BEGIN:VCALENDAR
VERSION:2.0
PRODID:-//Ka&#039;Fête ô Mômes - ECPv5.9.0//NONSGML v1.0//EN
CALSCALE:GREGORIAN
METHOD:PUBLISH
X-WR-CALNAME:Ka&#039;Fête ô Mômes
X-ORIGINAL-URL:https://kafeteomomes.fr
X-WR-CALDESC:Évènements pour Ka&#039;Fête ô Mômes
BEGIN:VTIMEZONE
TZID:Europe/Paris
BEGIN:DAYLIGHT
TZOFFSETFROM:+0100
TZOFFSETTO:+0200
TZNAME:CEST
DTSTART:20210328T010000
END:DAYLIGHT
BEGIN:STANDARD
TZOFFSETFROM:+0200
TZOFFSETTO:+0100
TZNAME:CET
DTSTART:20211031T010000
END:STANDARD
END:VTIMEZONE
BEGIN:VEVENT
DTSTART;TZID=Europe/Paris:20211103T100000
DTEND;TZID=Europe/Paris:20211103T111500
DTSTAMP:20260424T173426
CREATED:20211004T135658Z
LAST-MODIFIED:20211027T153606Z
UID:5021-1635933600-1635938100@kafeteomomes.fr
SUMMARY:Massage bébé
DESCRIPTION:Atelier de découverte du massage bébé\nProposé par Sandrine Léveillé – accompagnante en parentalité\nSandrine vous propose un atelier pour apprendre à masser son enfant\, en compagnie d’autres parents. Une parenthèse de détente\, de relaxation et de lâcher-prise mutuel\, où vous allez être en relation totale avec votre enfant. \nGrâce à vos mains\, vous allez le regarder et l’observer\, et écouter votre ressenti. Sandrine vous guidera dans la découverte du corps et du toucher de votre enfant\, par les manœuvres de massage et la parole. Elle vous amènera l’un et l’autre à développer votre potentiel et à vous faire confiance.\nÊtre avec d’autres parents vous permettra d’échanger et de répondre aussi à des difficultés que vous pouvez avoir. \n​​​​​​ »Le massage est une aventure tellement simple et pas superficielle ! Il suffit juste d’avoir vos 2 mains qui deviennent les antennes du cœur et vous vous en rappellerez à tout jamais ! » \n10 bonnes raisons de masser son bébé…*\n\nC’est un moment privilégié\, tendre et aimant avec votre bébé.\naide votre bébé à dormir mieux (et vous aussi !)\nsoulage la constipation et stimule le transit.\nsoulage les maux du bébé (gaz\, coliques\, pleurs\, reflux\, etc.)\nvous procure un moment de détente à tous les deux (utile pour toute sa vie)\nfavorise l’appréciation du toucher et les relations positives.\naméliore le système digestif de votre bébé et l’absorption des aliments.\nstimule le développement cognitif de votre bébé.\nEt bien sûr\, aide votre bébé et vous-même à vous aimer !\n\n* Source : AFMB – Association Française de Massage pour Bébé\nPlus d’infos sur Sandrine Léveillé et son travail : www.bebemassage-lyon.com \nEnfant de 1 mois à 1 an\nTarif : 13€/duo (5€ par enfant supplémentaire)\nInfos : 04 78 61 21 79 ou CONTACT\nJe clique ICI pour m’inscrire à cet atelier !
URL:https://kafeteomomes.fr/evenement/massage-bebe-4/
LOCATION:Ka’Fête ô Mômes\, 3 Montée des Esses\, Lyon\, 69004\, France
CATEGORIES:Parents/Enfants
ATTACH;FMTTYPE=image/jpeg:https://kafeteomomes.fr/uploads/2021/10/20210922_103419-e1633105498686.jpg
GEO:45.7740305;4.8122498
X-APPLE-STRUCTURED-LOCATION;VALUE=URI;X-ADDRESS=Ka’Fête ô Mômes 3 Montée des Esses Lyon 69004 France;X-APPLE-RADIUS=500;X-TITLE=3 Montée des Esses:geo:4.8122498,45.7740305
END:VEVENT
END:VCALENDAR